BEGIN:VCALENDAR
VERSION:2.0
PRODID:-//ChamberMaster//Event Calendar 2.0//EN
METHOD:PUBLISH
X-PUBLISHED-TTL:P3D
REFRESH-INTERVAL:P3D
CALSCALE:GREGORIAN
BEGIN:VEVENT
DTSTART:20171116T230000Z
DTEND:20171117T010000Z
X-MICROSOFT-CDO-ALLDAYEVENT:FALSE
SUMMARY:An Appreciation of Design and Creativity
DESCRIPTION:Come experience Sandoval Design & Marketing! Join us as we share our appreciation of design and creativity with the Chandler business community\, Thursday\, November 16th 4pm-6pm. Food and drinks courtesy of San Tan Brewing Company. RSVP at www.sandovaldesign.com/events
X-ALT-DESC;FMTTYPE=text/html:Come experience Sandoval Design &amp\; Marketing! Join us as we share our appreciation of design and creativity with the Chandler business community\, Thursday\, November 16th 4pm-6pm. Food and drinks courtesy of San Tan Brewing Company. RSVP at www.sandovaldesign.com/events
LOCATION:Sandoval Design 101 West Commonwealth Ave Chandler\, AZ 85225
UID:e.1561.19619
SEQUENCE:3
DTSTAMP:20260424T034551Z
URL:https://business.chandlerchamber.com/events/details/an-appreciation-of-design-and-creativity-19619
END:VEVENT

END:VCALENDAR
