BEGIN:VCALENDAR
VERSION:2.0
PRODID:-//ChamberMaster//Event Calendar 2.0//EN
METHOD:PUBLISH
X-PUBLISHED-TTL:P3D
REFRESH-INTERVAL:P3D
CALSCALE:GREGORIAN
BEGIN:VEVENT
DTSTART:20171118T003000Z
DTEND:20171118T033000Z
X-MICROSOFT-CDO-ALLDAYEVENT:FALSE
SUMMARY:Annual Open House/Ribbon Cutting for PRS Property Management
DESCRIPTION:Join the Chandler Chamber at the Annual Open House/Holiday Party & Ribbon Cutting for PRS Property Management\n\nRibbon Cutting @ 6:30\n\nThank you to our ribbon sponsor\, Laser Creations
X-ALT-DESC;FMTTYPE=text/html:Join the Chandler Chamber at the Annual Open House/Holiday Party &amp\; Ribbon Cutting for PRS Property Management<br />\nRibbon Cutting @ 6:30<br />\nThank you to our ribbon sponsor\, Laser Creations
LOCATION:4129 W Milky Way Chandler\, AZ 85226
UID:e.1561.19194
SEQUENCE:3
DTSTAMP:20260424T022622Z
URL:https://business.chandlerchamber.com/events/details/annual-open-house-ribbon-cutting-for-prs-property-management-19194
END:VEVENT

END:VCALENDAR
