BEGIN:VCALENDAR
VERSION:2.0
PRODID:-//ChamberMaster//Event Calendar 2.0//EN
METHOD:PUBLISH
X-PUBLISHED-TTL:P3D
REFRESH-INTERVAL:P3D
CALSCALE:GREGORIAN
BEGIN:VEVENT
DTSTART:20191027T003000Z
DTEND:20191027T033000Z
X-MICROSOFT-CDO-ALLDAYEVENT:FALSE
SUMMARY:Annual Trunk or Treat Fall Festival
DESCRIPTION:We are hosting our Annual Trunk or Treat Fall Festival for our families and members of the community on Saturday\, October 26\, 2019 from 5:30-8:30 pm at 2200 North Arizona Ave.\, Chandler\, AZ. This event will be held in the parking lot of Providence High School. This event will be a fun\, family friendly time for all to enjoy treats\, food\, games\, prizes\, raffles\, face painting and more!
X-ALT-DESC;FMTTYPE=text/html:We are hosting our Annual Trunk or Treat Fall Festival for our families and members of the community on Saturday\, October 26\, 2019 from 5:30-8:30 pm at 2200 North Arizona Ave.\, Chandler\, AZ. This event will be held in the parking lot of Providence High School. This event will be a fun\, family friendly time for all to enjoy treats\, food\, games\, prizes\, raffles\, face painting and more!
LOCATION:Providence High School 2200 North Arizona Ave. Chandler\, AZ 85225
UID:e.1561.36887
SEQUENCE:3
DTSTAMP:20260422T202934Z
URL:https://business.chandlerchamber.com/events/details/annual-trunk-or-treat-fall-festival-36887
END:VEVENT

END:VCALENDAR
