BEGIN:VCALENDAR
VERSION:2.0
PRODID:-//ChamberMaster//Event Calendar 2.0//EN
METHOD:PUBLISH
X-PUBLISHED-TTL:P3D
REFRESH-INTERVAL:P3D
CALSCALE:GREGORIAN
BEGIN:VEVENT
DTSTART:20180217T160000Z
DTEND:20180219T000000Z
X-MICROSOFT-CDO-ALLDAYEVENT:FALSE
SUMMARY:Apache Junction Rock & Gem Club 52nd Annual Show
DESCRIPTION:Vendors from around the region will be selling items from their sizable inventories. Raffles and silent auctions will be held throughout the show for an opportunity to win some amazing prizes. Food will be available for purchase.Kid's corner-lots of fun activities and a free starter rock collection. This is an unique event the whole family will enjoy!
X-ALT-DESC;FMTTYPE=text/html:Vendors from around the region will be selling items from their sizable inventories. Raffles and silent auctions will be held throughout the show for an opportunity to win some amazing prizes. Food will be available for purchase.Kid&#39\;s corner-lots of fun activities and a free starter rock collection. This is an unique event the whole family will enjoy!
LOCATION:Skyline High School (gym) 845 S. Crismon Rd. Mesa\, AZ 85208
UID:e.1561.20701
SEQUENCE:3
DTSTAMP:20260423T215839Z
URL:https://business.chandlerchamber.com/events/details/apache-junction-rock-gem-club-52nd-annual-show-20701
END:VEVENT

END:VCALENDAR
