BEGIN:VCALENDAR
VERSION:2.0
PRODID:-//ChamberMaster//Event Calendar 2.0//EN
METHOD:PUBLISH
X-PUBLISHED-TTL:P3D
REFRESH-INTERVAL:P3D
CALSCALE:GREGORIAN
BEGIN:VEVENT
DTSTART:20171206T003000Z
DTEND:20171206T023000Z
X-MICROSOFT-CDO-ALLDAYEVENT:FALSE
SUMMARY:Argosy University\, Phoenix Chandler Learning Site Open House
DESCRIPTION:Meet with campus faculty and staff to learn more about the Argosy University\, Phoenix\, Chandler Learning Site. Join us at the Argosy University\, Phoenix Chandler Learning Site on December 5\, 2017 for this fun informative event. Learn about our undergraduate and graduate degree program offerings. We look forward to seeing you!   President's Welcome   Campus Tour   Networking
X-ALT-DESC;FMTTYPE=text/html:Meet with campus faculty and staff to learn more about the Argosy University\, Phoenix\, Chandler Learning Site. Join us at the Argosy University\, Phoenix Chandler Learning Site on December 5\, 2017 for this fun informative event. Learn about our undergraduate and graduate degree program offerings. We look forward to seeing you! &bull\; President&rsquo\;s Welcome &bull\; Campus Tour &bull\; Networking
LOCATION:Argosy University\, Phoenix Chandler Learning Site 1255 South Spectrum Boulevard Chandler\, AZ 85286
UID:e.1561.19640
SEQUENCE:3
DTSTAMP:20260424T011025Z
URL:https://business.chandlerchamber.com/events/details/argosy-university-phoenix-chandler-learning-site-open-house-19640
END:VEVENT

END:VCALENDAR
