BEGIN:VCALENDAR
VERSION:2.0
PRODID:-//ChamberMaster//Event Calendar 2.0//EN
METHOD:PUBLISH
X-PUBLISHED-TTL:P3D
REFRESH-INTERVAL:P3D
CALSCALE:GREGORIAN
BEGIN:VEVENT
DTSTART:20150917T190000Z
DTEND:20150917T190000Z
X-MICROSOFT-CDO-ALLDAYEVENT:FALSE
SUMMARY:Arizona Ballroom Champions Open House
DESCRIPTION:Open House event for Arizona Ballroom Champions. The event is filled with family fun\, games\, student performances and a group dance class.
X-ALT-DESC;FMTTYPE=text/html:Open House event for Arizona Ballroom Champions. The event is filled with family fun\, games\, student performances and a group dance class.
LOCATION:3002 N Arizona Ave. Suite 10 Chandler\, AZ 85225
UID:e.1561.13179
SEQUENCE:3
DTSTAMP:20260425T184011Z
URL:https://business.chandlerchamber.com/events/details/arizona-ballroom-champions-open-house-09-17-2015-13179
END:VEVENT

END:VCALENDAR
