BEGIN:VCALENDAR
VERSION:2.0
PRODID:-//ChamberMaster//Event Calendar 2.0//EN
METHOD:PUBLISH
X-PUBLISHED-TTL:P3D
REFRESH-INTERVAL:P3D
CALSCALE:GREGORIAN
BEGIN:VEVENT
DTSTART:20191002T180000Z
DTEND:20191003T010000Z
X-MICROSOFT-CDO-ALLDAYEVENT:FALSE
SUMMARY:Arizona Business Expo & Career Fair 2019
DESCRIPTION:All are welcome and encouraged to attend the Arizona Business Expo and Career Fair!  Admission is free!  Enter to win two Southwest Airlines tickets - no purchase necessary! \n\nChandler's premier business organization\, the Chandler Chamber of Commerce\, is proud to introduce the Arizona Business Expo & Career Fair.  A business-focused community event aimed at bringing together residents\, business owners and entrepreneurs to support business growth in Chandler.  Attendees will have an opportunity to explore the unique nature of Chandler's local businesses\, make new contacts\, find a career and learn about new offers\, products and services.  Businesses will have a chance to network\, learn about current business trends\, connect with business professionals\, build a dream team and succeed in Business.  Please note\, once a booth is purchased for the Expo or Career Fair\, there will be no refunds.\n\nhttp://arizonabusinessexpo.biz/
X-ALT-DESC;FMTTYPE=text/html:<span style="color:#FF0000\;"><strong><span style="font-size:16px\;">All are welcome and encouraged to attend the Arizona&nbsp\;Business Expo and Career Fair!&nbsp\; Admission is free!&nbsp\;&nbsp\;Enter to win two Southwest Airlines tickets - no purchase necessary!&nbsp\;</span></strong></span><br />\nChandler&rsquo\;s premier business organization\, the Chandler Chamber of Commerce\, is proud to introduce the Arizona Business Expo &amp\; Career Fair.&nbsp\; A business-focused community event aimed at bringing together residents\, business owners and entrepreneurs to support business growth in Chandler.&nbsp\; Attendees will have an opportunity to explore the unique nature of Chandler&lsquo\;s local businesses\, make new contacts\, find a career and learn about new offers\, products and services.&nbsp\; Businesses will have a chance to network\, learn about current business trends\, connect with business professionals\, build a dream team and succeed in Business.&nbsp\; Please note\, once a booth is purchased for the Expo or Career Fair\, there will be no refunds.<br />\n<a href="http://arizonabusinessexpo.biz/">http://arizonabusinessexpo.biz/</a><br />\n&nbsp\;
LOCATION:Chandler Fashion Center 3111 W Chandler Blvd Chandler\, AZ
UID:e.1561.36785
SEQUENCE:3
DTSTAMP:20260420T024838Z
URL:https://business.chandlerchamber.com/events/details/arizona-business-expo-career-fair-2019-36785
END:VEVENT

END:VCALENDAR
