BEGIN:VCALENDAR
VERSION:2.0
PRODID:-//ChamberMaster//Event Calendar 2.0//EN
METHOD:PUBLISH
X-PUBLISHED-TTL:P3D
REFRESH-INTERVAL:P3D
CALSCALE:GREGORIAN
BEGIN:VEVENT
DTSTART:20220413T173000Z
DTEND:20220413T181500Z
X-MICROSOFT-CDO-ALLDAYEVENT:FALSE
SUMMARY:Art Tots: Nature Art
DESCRIPTION:Celebrate nature with us by creating art with natural materials and decorating an upcycled bird feeder. Want to make art with your little one but don't want to clean the mess? Come for a 45-minute program led by our friendly educators that is an age-appropriate introduction to different art styles and concepts. With new themes each month\, program participants will begin together with a central topic and then break off into family groups to engage in several art-centered activity stations. Geared toward ages 3-5. Join us and get messy with your little one! Program repeats April 27. Register as space is limited. https://www.eventbrite.com/e/art-tots-nature-art-tickets-277007666387
X-ALT-DESC;FMTTYPE=text/html:Celebrate nature with us by creating art with natural materials and decorating an upcycled bird feeder. Want to make art with your little one but don&rsquo\;t want to clean the mess? Come for a 45-minute program led by our friendly educators that is an age-appropriate introduction to different art styles and concepts. With new themes each month\, program participants will begin together with a central topic and then break off into family groups to engage in several art-centered activity stations. Geared toward ages 3-5. Join us and get messy with your little one! Program repeats April 27. Register as space is limited. https://www.eventbrite.com/e/art-tots-nature-art-tickets-277007666387
LOCATION:Chandler Museum 300 S. Chandler Village Drive Chandler\, Arizona 85226
UID:e.1561.40641
SEQUENCE:3
DTSTAMP:20260423T221834Z
URL:https://business.chandlerchamber.com/events/details/art-tots-nature-art-40641
END:VEVENT

END:VCALENDAR
