BEGIN:VCALENDAR
VERSION:2.0
PRODID:-//ChamberMaster//Event Calendar 2.0//EN
METHOD:PUBLISH
X-PUBLISHED-TTL:P3D
REFRESH-INTERVAL:P3D
CALSCALE:GREGORIAN
BEGIN:VEVENT
DTSTART:20180424T190000Z
DTEND:20180424T200000Z
X-MICROSOFT-CDO-ALLDAYEVENT:FALSE
SUMMARY:Ask an Expert
DESCRIPTION:Ask an Expert is a monthly seminar that invites experts in their field to shed insight and answer questions on topics that are vital to success in today's business world.\n\nThis Month's Expert is:\n\nSara Regester\n\n"Turn Your Stress into Success"\n\nStress hits everyone at one time or another.  Learn valuable techniques on how to meet stress when it is triggered and takeaways you can start using immediately.\n\nSara's dynamic talks have been delivered to thousands of people\, allowing them to\n\ntransform and leverage their stress. Her audience is able to look at their undesirable current results\, health and happiness and see the root cause of this being not circumstances\; but rather resistance of something very important. In her talks\, Sara not only provides inspiration but also tactical methods to ensure you have tools to take into your everyday life as well as putting "stress" into a completely new context in which it can be leveraged.\n\n\n\n\n\nMarketing tip from our sponsor\, Bring It Marketing:\n\n\n	Build a marketing strategy based on your goals for your marketing and then write out a plan to implement the strategy and state the tactics to execute the plan.\n	\n		Social Media channels\n		Advertising media   Facebook\, Google\, Yelp\, LinkedIn etc. Print\, TV\, Radio\, Direct mailing\, Blog\, Digital magazines .\n		Trade shows\, conferences\, webinars\n		Special events\, contest\, giveaways .
X-ALT-DESC;FMTTYPE=text/html:<div style="color: rgb(0\, 0\, 0)\; font-family: Arial\, Helvetica\, sans-serif\; font-size: 13.3333px\;"><br />\n<span style="font-size:12px\;">Ask an Expert is a monthly seminar that invites experts in their field to shed insight and answer questions on topics that are vital to success in today&#39\;s business world.</span></div>\n\n<p><strong>This Month&#39\;s Expert is:</strong><br />\nSara Regester</p>\n\n<p><strong>&quot\;Turn Your Stress into Success&quot\;</strong><br />\nStress hits everyone at one time or another.&nbsp\; Learn valuable techniques on how to meet stress when it is triggered and&nbsp\;takeaways you can start using immediately.</p>\n\n<p><span style="font-family:arial\;"><span style="font-size:12px\;"><span style="font-weight:bold\;language:en-US\;">Sara&rsquo\;s dynamic talks have been delivered to thousands of people\, allowing them to<br />\ntransform and leverage their stress. Her audience is able to look at their undesirable current results\, health and happiness and see the root cause of this being not circumstances\; but rather resistance of something very important. In her talks\, Sara not only provides inspiration but also tactical methods to ensure you have tools to take into your everyday life as well as putting &ldquo\;stress&rdquo\; into a completely new context in which it can be leveraged.</span></span></span><br />\n<br />\n<br />\n<strong>Marketing tip from our sponsor\, Bring It Marketing:</strong></p>\n\n<ol>\n	<li>Build a marketing strategy based on your goals for your marketing and then write out a plan to implement the strategy and state the tactics to execute the plan.\n	<ol style="list-style-type:lower-alpha\;">\n		<li>Social Media channels</li>\n		<li>Advertising media &ndash\; Facebook\, Google\, Yelp\, LinkedIn etc. Print\, TV\, Radio\, Direct mailing\, Blog\, Digital magazines&hellip\;.</li>\n		<li>Trade shows\, conferences\, webinars</li>\n		<li>Special events\, contest\, giveaways&hellip\;.</li>\n	</ol>\n	</li>\n</ol>\n
LOCATION:Chandler Chamber Office 25 S Arizona Pl\, #201 Chandler\, AZ 85225
UID:e.1561.20512
SEQUENCE:3
DTSTAMP:20260423T193040Z
URL:https://business.chandlerchamber.com/events/details/ask-an-expert-20512
END:VEVENT

END:VCALENDAR
