BEGIN:VCALENDAR
VERSION:2.0
PRODID:-//ChamberMaster//Event Calendar 2.0//EN
METHOD:PUBLISH
X-PUBLISHED-TTL:P3D
REFRESH-INTERVAL:P3D
CALSCALE:GREGORIAN
BEGIN:VEVENT
DTSTART:20180828T190000Z
DTEND:20180828T200000Z
X-MICROSOFT-CDO-ALLDAYEVENT:FALSE
SUMMARY:Ask an Expert
DESCRIPTION:Ask an Expert is a monthly seminar that invites experts in their field to shed insight and answer questions on topics that are vital to success in today's business world.\n\n\n\nIn August\, Chuck Paulausky with CP Safety & Environmental\, LLC will be on hand to talk about Small Business Regulations.\n\n\n\n"EHS Compliance for Small Business- Do the Regulations Apply to Me?" \n\nThis presentation is designed to educate small business owners about understanding and managing their potential Safety & Environmental responsibilities. The seminar reviews a range of EPA\, OSHA\, NFPA and other requirements that might apply. Also discussed are some of the financial impacts that come with non-compliance and reviews the cost benefits of working towards compliance.  It wraps up with an approach that small business can follow to build their compliance programs as they build their businesses.
X-ALT-DESC;FMTTYPE=text/html:<div style="color: rgb(0\, 0\, 0)\; font-family: Arial\, Helvetica\, sans-serif\; font-size: 13.3333px\;"><span style="font-size:12px\;">Ask an Expert is a monthly seminar that invites experts in their field to shed insight and answer questions on topics that are vital to success in today&#39\;s business world.</span><br />\n<br />\nIn August\, Chuck Paulausky with CP Safety &amp\; Environmental\, LLC will be on hand to talk about Small Business Regulations.<br />\n<br />\n<strong><span style="font-family:arial\,sans-serif\;"><span style="font-size:9.0pt\;">&ldquo\;EHS Compliance for Small Business- Do the Regulations Apply to Me?&rdquo\; </span></span></strong><br />\n<span style="font-family:arial\,sans-serif\;"><span style="font-size:9.0pt\;">This presentation is designed to educate small business owners about understanding and managing their potential Safety &amp\; Environmental responsibilities. The seminar reviews a range of EPA\, OSHA\, NFPA and other requirements that might apply. Also discussed are some of the financial impacts that come with non-compliance and reviews the cost benefits of working towards compliance.&nbsp\; It wraps up with an approach that small business can follow to build their compliance programs as they build their businesses.</span></span><br />\n&nbsp\;</div>\n
LOCATION:Chandler Chamber Office 25 S Arizona Pl\, #201 Chandler\, AZ 85225
UID:e.1561.20676
SEQUENCE:3
DTSTAMP:20260423T135405Z
URL:https://business.chandlerchamber.com/events/details/ask-an-expert-20676
END:VEVENT

END:VCALENDAR
