BEGIN:VCALENDAR
VERSION:2.0
PRODID:-//ChamberMaster//Event Calendar 2.0//EN
METHOD:PUBLISH
X-PUBLISHED-TTL:P3D
REFRESH-INTERVAL:P3D
CALSCALE:GREGORIAN
BEGIN:VEVENT
DTSTART:20180626T190000Z
DTEND:20180626T200000Z
X-MICROSOFT-CDO-ALLDAYEVENT:FALSE
SUMMARY:Ask an Expert
DESCRIPTION:Ask an Expert is a monthly seminar that invites experts in their field to shed insight and answer questions on topics that are vital to success in today's business world.\n\n\n\nJune installment:\n\nDave Seeman with Bring it Marketing will present on "Low cost & No cost Marketing"  Every business\, product and service needs marketing\, but it doesn't have to be expensive.  Come and learn marketing techniques\, tools and channels that are cheap to use\, but are effective.\n\nJoel Mozis with Mozomobile will talk about text marketing.
X-ALT-DESC;FMTTYPE=text/html:<div style="color: rgb(0\, 0\, 0)\; font-family: Arial\, Helvetica\, sans-serif\; font-size: 13.3333px\;"><span style="font-size:16px\;">Ask an Expert is a monthly seminar that invites experts in their field to shed insight and answer questions on topics that are vital to success in today&#39\;s business world.<br />\n<br />\n<strong>June installment:</strong><br />\n<span style="font-family:arial\;">Dave Seeman&nbsp\;with Bring it Marketing will present on &ldquo\;Low cost &amp\; No cost Marketing&rdquo\;&nbsp\; Every business\, product and service needs marketing\, but it doesn&rsquo\;t have to be expensive.&nbsp\; Come and learn marketing techniques\, tools and channels that are cheap to use\, but are effective.<br />\nJoel Mozis with Mozomobile will talk about text marketing.&nbsp\;</span></span><br />\n<br />\n&nbsp\;</div>\n
LOCATION:Chandler Chamber Office 25 S Arizona Pl\, #201 Chandler\, AZ 85225
UID:e.1561.20685
SEQUENCE:3
DTSTAMP:20260423T175815Z
URL:https://business.chandlerchamber.com/events/details/ask-an-expert-20685
END:VEVENT

END:VCALENDAR
