BEGIN:VCALENDAR
VERSION:2.0
PRODID:-//ChamberMaster//Event Calendar 2.0//EN
METHOD:PUBLISH
X-PUBLISHED-TTL:P3D
REFRESH-INTERVAL:P3D
CALSCALE:GREGORIAN
BEGIN:VEVENT
DTSTART:20180529T190000Z
DTEND:20180529T200000Z
X-MICROSOFT-CDO-ALLDAYEVENT:FALSE
SUMMARY:Ask an Expert
DESCRIPTION:Ask an Expert is a monthly seminar that invites experts in their field to shed insight and answer questions on topics that are vital to success in today's business world.\n\n \n\nThis month we present Mark Kirstein with Sandler Sales Training for insight into the do's and don'ts of closing your sales and what is new in the sales world that will help you outperform the competition.
X-ALT-DESC;FMTTYPE=text/html:<div style="color: rgb(0\, 0\, 0)\; font-family: Arial\, Helvetica\, sans-serif\; font-size: 13.3333px\;"><span style="font-size: 16px\;">Ask an Expert is a monthly seminar that invites experts in their field to shed insight and answer questions on topics that are vital to success in today&#39\;s business world.</span><br />\n&nbsp\;</div>\n\n<div style="color: rgb(0\, 0\, 0)\; font-family: Arial\, Helvetica\, sans-serif\; font-size: 13.3333px\;"><span style="font-size: 16px\;">This month we present Mark Kirstein with Sandler Sales Training for insight into the do&#39\;s and don&#39\;ts of closing your sales and what is new in the sales world that will help you outperform the competition.</span></div>\n\n<div style="color: rgb(0\, 0\, 0)\; font-family: Arial\, Helvetica\, sans-serif\; font-size: 13.3333px\;"><br />\n&nbsp\;</div>\n\n<p><br />\n<br />\n&nbsp\;</p>\n\n<p><br />\n<br />\n<br />\n<br />\n<br />\n<br />\n&nbsp\;</p>\n
LOCATION:Chandler Chamber Office 25 S Arizona Pl\, #201 Chandler\, AZ 85225
UID:e.1561.20689
SEQUENCE:3
DTSTAMP:20260423T190858Z
URL:https://business.chandlerchamber.com/events/details/ask-an-expert-20689
END:VEVENT

END:VCALENDAR
