BEGIN:VCALENDAR
VERSION:2.0
PRODID:-//ChamberMaster//Event Calendar 2.0//EN
METHOD:PUBLISH
X-PUBLISHED-TTL:P3D
REFRESH-INTERVAL:P3D
CALSCALE:GREGORIAN
BEGIN:VEVENT
DTSTART:20180731T190000Z
DTEND:20180731T200000Z
X-MICROSOFT-CDO-ALLDAYEVENT:FALSE
SUMMARY:Ask an Expert
DESCRIPTION:Ask an Expert is a monthly seminar that invites experts in their field to give insight and answer questions on topics that are vital to success in today's business world.\n\n \n\nWendy Bader M.S.\n\nBader Nutrition\n\nPowerful lifestyle strategies to boost \n\nfocus\, mental sharpness and performance\n\n\n\nWendy is the creator of Brain Power Breakthrough. Discover the\n\nsecret weapons to develop a peak performing brain so you and your team will reach your brilliant potential in your work\, community\, and relationships.\n\n\n\nThis program is inspiring and entertaining - just the push you need to get on track to better brain habits.  Learn to:\n\n-Use ultimate foods for sharper thinking\n\n-The best physical activities for brain health (even if you hate exercise)\n\n-Wendy's 10-Minute Brain Boost to instantly (and naturally) improve focus and energy\n\n-How to conquer food cravings\, brain fog and afternoon slump\n\n-Wendy's Good Mood Prescription for excellent mood and mental well-being\n\n-Must-know tips & tricks for better sleep\n\n-Normal and abnormal changes to the brain\, thinking and memory at all ages\n\n-Lots of Brain Health Hacks - and much more!\n\n \n\nWendy earned her Master's degree in Nutrition Science from Arizona State University and has been a faculty associate at ASU.
X-ALT-DESC;FMTTYPE=text/html:<div style="color: rgb(0\, 0\, 0)\; font-family: Arial\, Helvetica\, sans-serif\; font-size: 13.3333px\;"><span style="font-size:14px\;">Ask an Expert is a monthly seminar that invites experts in their field to give insight and answer questions on topics that are vital to success in today&#39\;s business world.</span><br />\n&nbsp\;</div>\n\n<p style="color: rgb(0\, 0\, 0)\; font-family: Arial\, Helvetica\, sans-serif\; font-size: 13.3333px\;"><strong>Wendy Bader M.S.<br />\nBader Nutrition</strong><br />\n<span style="font-size:12px\;"><strong><span style="color:#323232\;"><span style="font-family:verdana\,sans-serif\;">Powerful lifestyle strategies to boost&nbsp\;</span></span></strong><br />\n<strong><span style="color:#323232\;"><span style="font-family:verdana\,sans-serif\;">focus\, mental sharpness and performance</span></span></strong></span><br />\n<br />\n<span style="color:black\;"><span style="font-family:arial\,sans-serif\;"><span style="font-size:10.0pt\;">Wendy is the creator of Brain Power Breakthrough.&nbsp\;Discover the<br />\nsecret weapons to develop a peak performing brain so you and your team will reach your&nbsp\;brilliant potential in your work\, community\, and relationships.<br />\n<br />\nThis program is inspiring and entertaining - just the push you need to get on track to better brain habits.&nbsp\; Learn to:</span></span></span><br />\n<strong><span style="color:black\;"><span style="font-family:arial\,sans-serif\;"><span style="font-size:10.0pt\;">-Use ultimate foods for sharper thinking</span></span></span></strong><br />\n<span style="color:black\;"><span style="font-family:arial\,sans-serif\;"><span style="font-size:10.0pt\;"><strong>-The best physical activities for brain health (even if&nbsp\;you hate exercise)</strong><br />\n<strong>-Wendy&#39\;s 10-Minute Brain Boost to instantly (and&nbsp\;naturally) improve focus and energy</strong><br />\n<strong>-How to conquer food cravings\, brain fog and&nbsp\;afternoon slump</strong><br />\n<strong>-Wendy&#39\;s Good Mood Prescription for excellent&nbsp\;mood and mental well-being</strong><br />\n<strong>-Must-know tips &amp\; tricks for better sleep</strong><br />\n<strong>-Normal and abnormal changes to the brain\,&nbsp\;thinking and memory at all ages</strong><br />\n<strong>-Lots of Brain Health Hacks - and much more!</strong></span></span></span><br />\n&nbsp\;<br />\n<span style="color:black\;"><span style="font-family:arial\,sans-serif\;"><span style="font-size:10.0pt\;">Wendy earned her Master&#39\;s degree in Nutrition Science&nbsp\;from Arizona State University and has been a faculty&nbsp\;associate at ASU.</span></span></span><br />\n&nbsp\;</p>\n
LOCATION:Chandler Chamber Office 25 S Arizona Pl\, #201 Chandler\, AZ 85225
UID:e.1561.20926
SEQUENCE:3
DTSTAMP:20260423T150550Z
URL:https://business.chandlerchamber.com/events/details/ask-an-expert-20926
END:VEVENT

END:VCALENDAR
