BEGIN:VCALENDAR
VERSION:2.0
PRODID:-//ChamberMaster//Event Calendar 2.0//EN
METHOD:PUBLISH
X-PUBLISHED-TTL:P3D
REFRESH-INTERVAL:P3D
CALSCALE:GREGORIAN
BEGIN:VEVENT
DTSTART:20170805T163000Z
DTEND:20170805T190000Z
X-MICROSOFT-CDO-ALLDAYEVENT:FALSE
SUMMARY:Audition for TedxChandlerPublicLibrary
DESCRIPTION:Calling All Idea-makers and Dreamers: Audition to be a speaker at our next TEDxChandlerPublicLibrary! TEDxChandlerPublicLibrary is putting a call out for speakers and performers for its next event: Connect. In our technology driven\, ever-evolving world\, we crave connection more than ever before. We connect digitally\, virtually\, historically\, socially\, environmentally\, architecturally\, academically you get the idea. Share your presentation\, idea\, talk\, performance on connecting. Auditions will be held on Saturday\, August 5\, starting at 9:30 a.m.\, at Chandler Downtown Library\, located at 22 S. Delaware Street\, Downtown Chandler. Registration is required\; space is limited. Sign up for your time slot here. Requirements: You must be 14 years or older. We welcome teens and adults! If you need equipment or props\, bring them with you. Be prepared to share your talent or idea with the panel. Your audition can be no more than 10 minutes. Bring your bio to share with the panel. NOTE: If you are selected to speak you will need to be available on October 14 between 9 a.m. and 2 p.m.\, as well as rehearsal the week before. You will also need to provide a headshot\, speaker bio\, speaker release form and your powerpoint slides (if applicable to your talk). All speakers will receive coaching sessions to help them hone their talk or performance.
X-ALT-DESC;FMTTYPE=text/html:Calling All Idea-makers and Dreamers: Audition to be a speaker at our next TEDxChandlerPublicLibrary! TEDxChandlerPublicLibrary is putting a call out for speakers and performers for its next event: Connect. In our technology driven\, ever-evolving world\, we crave connection more than ever before. We connect digitally\, virtually\, historically\, socially\, environmentally\, architecturally\, academically&hellip\;you get the idea. Share your presentation\, idea\, talk\, performance on connecting. Auditions will be held on Saturday\, August 5\, starting at 9:30 a.m.\, at Chandler Downtown Library\, located at 22 S. Delaware Street\, Downtown Chandler. Registration is required\; space is limited. Sign up for your time slot here. Requirements: You must be 14 years or older. We welcome teens and adults! If you need equipment or props\, bring them with you. Be prepared to share your talent or idea with the panel. Your audition can be no more than 10 minutes. Bring your bio to share with the panel. NOTE: If you are selected to speak you will need to be available on October 14 between 9 a.m. and 2 p.m.\, as well as rehearsal the week before. You will also need to provide a headshot\, speaker bio\, speaker release form and your powerpoint slides (if applicable to your talk). All speakers will receive coaching sessions to help them hone their talk or performance.
LOCATION:Chandler Public Library 22 S. Delaware Street\, Downtown Chandler
UID:e.1561.19101
SEQUENCE:3
DTSTAMP:20260424T063652Z
URL:https://business.chandlerchamber.com/events/details/audition-for-tedxchandlerpubliclibrary-19101
END:VEVENT

END:VCALENDAR
