BEGIN:VCALENDAR
VERSION:2.0
PRODID:-//ChamberMaster//Event Calendar 2.0//EN
METHOD:PUBLISH
X-PUBLISHED-TTL:P3D
REFRESH-INTERVAL:P3D
CALSCALE:GREGORIAN
BEGIN:VEVENT
DTSTART:20180501T200000Z
DTEND:20180501T210000Z
X-MICROSOFT-CDO-ALLDAYEVENT:FALSE
SUMMARY:Auditions
DESCRIPTION:Upcoming Casting Calls in Chandler Location: Provided via email Company Info: https://www.princessparty.com/ Send resume and preferred audition time to: casting@princessparty.com We are seeking actors who have the ability to play popular princess characters for our Phoenix troupe. As a member of our team\, you receive: -Training -Paid Performances -Flexibility that allows you to choose gigs based on your schedule -A fast paced growth environment -Networking and collaborating with the finest professional local actors and members of the performing arts community The Princess Party Co. provides the highest quality princesses with our unique improv training method.
X-ALT-DESC;FMTTYPE=text/html:Upcoming Casting Calls in Chandler Location: Provided via email Company Info: https://www.princessparty.com/ Send resume and preferred audition time to: casting@princessparty.com We are seeking actors who have the ability to play popular princess characters for our Phoenix troupe. As a member of our team\, you receive: -Training -Paid Performances -Flexibility that allows you to choose gigs based on your schedule -A fast paced growth environment -Networking and collaborating with the finest professional local actors and members of the performing arts community The Princess Party Co. provides the highest quality princesses with our unique improv training method.
LOCATION:TBD
UID:e.1561.20962
SEQUENCE:3
DTSTAMP:20260423T175815Z
URL:https://business.chandlerchamber.com/events/details/auditions-20962
END:VEVENT

END:VCALENDAR
