BEGIN:VCALENDAR
VERSION:2.0
PRODID:-//ChamberMaster//Event Calendar 2.0//EN
METHOD:PUBLISH
X-PUBLISHED-TTL:P3D
REFRESH-INTERVAL:P3D
CALSCALE:GREGORIAN
BEGIN:VEVENT
DTSTART:20220311T010000Z
DTEND:20220311T030000Z
X-MICROSOFT-CDO-ALLDAYEVENT:FALSE
SUMMARY:AZCEND's Fashion for Food Fashion Show
DESCRIPTION:Join us for an evening of Fun\, Fashion & Join us for an evening of Fun\, Fashion & Philanthropy\, in support of AZCEND's Food Bank. Watch as Cabi Clothing's Spring Collection comes to life\, on some of your favorite Chandler women. $10.00 gets you in the door\, with every penny going directly to AZCEND. Bring your non-perishables for your chance to win some fun prizes. So\, grab your girlfriends and make a girls night out of it. (Men\, you're invited too).
X-ALT-DESC;FMTTYPE=text/html:Join us for an evening of Fun\, Fashion &amp\; Join us for an evening of Fun\, Fashion &amp\; Philanthropy\, in support of AZCEND&#39\;s Food Bank. Watch as Cabi Clothing&#39\;s Spring Collection comes to life\, on some of your favorite Chandler women. $10.00 gets you in the door\, with every penny going directly to AZCEND. Bring your non-perishables for your chance to win some fun prizes. So\, grab your girlfriends and make a girls night out of it. (Men\, you&#39\;re invited too).
LOCATION:Serrano's Restaurant- 25 S Arizona Pl\, Ste 230\, Chandler\, AZ
UID:e.1561.40636
SEQUENCE:3
DTSTAMP:20260424T001417Z
URL:https://business.chandlerchamber.com/events/details/azcend-s-fashion-for-food-fashion-show-40636
END:VEVENT

END:VCALENDAR
