BEGIN:VCALENDAR
VERSION:2.0
PRODID:-//ChamberMaster//Event Calendar 2.0//EN
METHOD:PUBLISH
X-PUBLISHED-TTL:P3D
REFRESH-INTERVAL:P3D
CALSCALE:GREGORIAN
BEGIN:VEVENT
DTSTART:20150225T003000Z
DTEND:20150225T013000Z
X-MICROSOFT-CDO-ALLDAYEVENT:FALSE
SUMMARY:Beer Training - Ostrich Festival
DESCRIPTION:Beer training for the Ostrich Festival Beer Pourer volunteers!
X-ALT-DESC;FMTTYPE=text/html:Beer training for the Ostrich Festival Beer Pourer volunteers!
LOCATION:Chandler Chamber of Commerce 25 S. Arizona Place Ste 201 Chandler\, AZ 85225
UID:e.1561.12622
SEQUENCE:3
DTSTAMP:20260426T002916Z
URL:https://business.chandlerchamber.com/events/details/beer-training-ostrich-festival-02-24-2015-12622
END:VEVENT

END:VCALENDAR
