BEGIN:VCALENDAR
VERSION:2.0
PRODID:-//ChamberMaster//Event Calendar 2.0//EN
METHOD:PUBLISH
X-PUBLISHED-TTL:P3D
REFRESH-INTERVAL:P3D
CALSCALE:GREGORIAN
BEGIN:VEVENT
DTSTART:20190516T010000Z
DTEND:20190516T020000Z
X-MICROSOFT-CDO-ALLDAYEVENT:FALSE
SUMMARY:Benefits of Medical Cannabis for Chronic Illness
DESCRIPTION:Hear Veronica Santarelli of Grassp speak in this one of a kind event discussing medical cannabis for chronic illness\, navigating the process of receiving treatment and understanding all of the available information.
X-ALT-DESC;FMTTYPE=text/html:Hear Veronica Santarelli of Grassp speak in this one of a kind event discussing medical cannabis for chronic illness\, navigating the process of receiving treatment and understanding all of the available information.
LOCATION:Copper Creek Inn Memory Care 2200 W Fairview St Chandler AZ 85224
UID:e.1561.36704
SEQUENCE:3
DTSTAMP:20260423T021455Z
URL:https://business.chandlerchamber.com/events/details/benefits-of-medical-cannabis-for-chronic-illness-36704
END:VEVENT

END:VCALENDAR
