BEGIN:VCALENDAR
VERSION:2.0
PRODID:-//ChamberMaster//Event Calendar 2.0//EN
METHOD:PUBLISH
X-PUBLISHED-TTL:P3D
REFRESH-INTERVAL:P3D
CALSCALE:GREGORIAN
BEGIN:VEVENT
DTSTART:20190503T003000Z
DTEND:20190503T013000Z
X-MICROSOFT-CDO-ALLDAYEVENT:FALSE
SUMMARY:BioTe Hormone Replacement
DESCRIPTION:Feeling fatigued\, anxious\, depressed\, experiencing loss of sleep\, mental clarity or libido? Feeling better starts with a simple blood test. Come Join our BioTe Certified Provider Christina Tretter\, NP-C\, staff and Biote Representative to see if BioTe Hormone Replacement is for you. Phlebotomist will be available for lab draws.
X-ALT-DESC;FMTTYPE=text/html:Feeling fatigued\, anxious\, depressed\, experiencing loss of sleep\, mental clarity or libido? Feeling better starts with a simple blood test. Come Join our BioTe Certified Provider Christina Tretter\, NP-C\, staff and Biote Representative to see if BioTe Hormone Replacement is for you. Phlebotomist will be available for lab draws.
LOCATION:StoneMed 77 S. Dobson Rd. Chandler\, AZ 85224
UID:e.1561.36676
SEQUENCE:3
DTSTAMP:20260423T020728Z
URL:https://business.chandlerchamber.com/events/details/biote-hormone-replacement-36676
END:VEVENT

END:VCALENDAR
