BEGIN:VCALENDAR
VERSION:2.0
PRODID:-//ChamberMaster//Event Calendar 2.0//EN
METHOD:PUBLISH
X-PUBLISHED-TTL:P3D
REFRESH-INTERVAL:P3D
CALSCALE:GREGORIAN
BEGIN:VEVENT
DTSTART:20200811T213000Z
DTEND:20200812T013000Z
X-MICROSOFT-CDO-ALLDAYEVENT:FALSE
SUMMARY:Blood Drive
DESCRIPTION:Downtown Chandler Blood Drive\n\n\nThe Crowne Plaza Chandler is hosting a blood drive on Tuesday\, August 11 from 2:30 - 6:30 p.m. Join the fight to save lives by scheduling an appointment today.
X-ALT-DESC;FMTTYPE=text/html:<h1>Downtown Chandler Blood Drive</h1>\n<br />\n<span style="color:#202020\;"><span style="font-family:helvetica\,sans-serif\;"><span style="font-size:12.0pt\;">The Crowne Plaza Chandler is hosting a blood drive on Tuesday\, August 11 from 2:30 - 6:30 p.m. Join the fight to save lives by scheduling an appointment today.</span></span></span>
LOCATION:San Marcos Ballroom One San Marcos Place - Chandler\, AZ
UID:e.1561.39205
SEQUENCE:3
DTSTAMP:20260424T212459Z
URL:https://business.chandlerchamber.com/events/details/blood-drive-39205
END:VEVENT

END:VCALENDAR
