BEGIN:VCALENDAR
VERSION:2.0
PRODID:-//ChamberMaster//Event Calendar 2.0//EN
METHOD:PUBLISH
X-PUBLISHED-TTL:P3D
REFRESH-INTERVAL:P3D
CALSCALE:GREGORIAN
BEGIN:VEVENT
DTSTART:20180110T153000Z
DTEND:20180110T193000Z
X-MICROSOFT-CDO-ALLDAYEVENT:FALSE
SUMMARY:BLOOD DRIVE-Chandler Community
DESCRIPTION:Donate to the blood supply for Chandler Regional Medical Center and every hospital in Maricopa County. Every donor thanked w/voucher to redeem online for general admission to Phoenix Open Golf Tournament.
X-ALT-DESC;FMTTYPE=text/html:Donate to the blood supply for Chandler Regional Medical Center and every hospital in Maricopa County. Every donor thanked w/voucher to redeem online for general admission to Phoenix Open Golf Tournament.
LOCATION:Chandler Community Center 200 E Commonwealth
UID:e.1561.20696
SEQUENCE:3
DTSTAMP:20260423T233125Z
URL:https://business.chandlerchamber.com/events/details/blood-drive-chandler-community-20696
END:VEVENT

END:VCALENDAR
