BEGIN:VCALENDAR
VERSION:2.0
PRODID:-//ChamberMaster//Event Calendar 2.0//EN
METHOD:PUBLISH
X-PUBLISHED-TTL:P3D
REFRESH-INTERVAL:P3D
CALSCALE:GREGORIAN
BEGIN:VEVENT
DTSTART:20220324T160000Z
DTEND:20220324T210000Z
X-MICROSOFT-CDO-ALLDAYEVENT:FALSE
SUMMARY:Blood Drive - City of Chandler
DESCRIPTION:City of Chandler Blood Drive\n\nCommunity Center - Room #109\n\n200 E Commonwealth Ave\n\nChandler AZ 85225
X-ALT-DESC;FMTTYPE=text/html:City of Chandler Blood Drive<br />\nCommunity Center - Room #109<br />\n200 E Commonwealth Ave<br />\nChandler AZ 85225
LOCATION:Community Center - Room #109 200 E Commonwealth Ave Chandler AZ 85225
UID:e.1561.40635
SEQUENCE:3
DTSTAMP:20260423T234746Z
URL:https://business.chandlerchamber.com/events/details/blood-drive-city-of-chandler-40635
END:VEVENT

END:VCALENDAR
