BEGIN:VCALENDAR
VERSION:2.0
PRODID:-//ChamberMaster//Event Calendar 2.0//EN
METHOD:PUBLISH
X-PUBLISHED-TTL:P3D
REFRESH-INTERVAL:P3D
CALSCALE:GREGORIAN
BEGIN:VEVENT
DTSTART:20190328T153000Z
DTEND:20190328T203000Z
X-MICROSOFT-CDO-ALLDAYEVENT:FALSE
SUMMARY:BLOOD DRIVE for Chandler Community
DESCRIPTION:Donate blood for Chandler Regional and every hospital in Maricopa County.Schedule online at www.BloodHero.com code: cityofchandler or call 1-877-25-VITAL United Blood Services is now Vitalant
X-ALT-DESC;FMTTYPE=text/html:Donate blood for Chandler Regional and every hospital in Maricopa County.Schedule online at www.BloodHero.com code: cityofchandler or call 1-877-25-VITAL United Blood Services is now Vitalant
LOCATION:Chandler Community Center Room #109 200 E Commonwealth Ave. 85224
UID:e.1561.36609
SEQUENCE:3
DTSTAMP:20260423T045503Z
URL:https://business.chandlerchamber.com/events/details/blood-drive-for-chandler-community-36609
END:VEVENT

END:VCALENDAR
