BEGIN:VCALENDAR
VERSION:2.0
PRODID:-//ChamberMaster//Event Calendar 2.0//EN
METHOD:PUBLISH
X-PUBLISHED-TTL:P3D
REFRESH-INTERVAL:P3D
CALSCALE:GREGORIAN
BEGIN:VEVENT
DTSTART:20200316T160000Z
DTEND:20200316T220000Z
X-MICROSOFT-CDO-ALLDAYEVENT:FALSE
SUMMARY:Blood Drive with The Attorneys for Freedom Law Firm
DESCRIPTION:Attorneys for Freedom Law Firm and the American Red Cross are hosting an upcoming blood drive. Please join our lifesaving mission and schedule an appointment today! Sign up to donate blood as part of the Attorneys For Freedom Law Firm Blood Drive. The Blood Drive is from 9:00 am   3:00 pm on Monday\, March 16th. Start your week off by giving back and helping those in need. The need for blood is constant and only volunteer donors can fulfill that need for patients in our community. Nationwide\, someone needs a unit of blood every 2 to 3 seconds and most of us will need blood in our lifetime.
X-ALT-DESC;FMTTYPE=text/html:Attorneys for Freedom Law Firm and the American Red Cross are hosting an upcoming blood drive. Please join our lifesaving mission and schedule an appointment today! Sign up to donate blood as part of the Attorneys For Freedom Law Firm Blood Drive. The Blood Drive is from 9:00 am &ndash\; 3:00 pm on Monday\, March 16th. Start your week off by giving back and helping those in need. The need for blood is constant and only volunteer donors can fulfill that need for patients in our community. Nationwide\, someone needs a unit of blood every 2 to 3 seconds and most of us will need blood in our lifetime.
LOCATION:The Attorneys for Freedom Law Firm 3185 South Price Road Chandler\, Arizona 85248
UID:e.1561.38813
SEQUENCE:3
DTSTAMP:20260424T163830Z
URL:https://business.chandlerchamber.com/events/details/blood-drive-with-the-attorneys-for-freedom-law-firm-38813
END:VEVENT

END:VCALENDAR
