BEGIN:VCALENDAR
VERSION:2.0
PRODID:-//ChamberMaster//Event Calendar 2.0//EN
METHOD:PUBLISH
X-PUBLISHED-TTL:P3D
REFRESH-INTERVAL:P3D
CALSCALE:GREGORIAN
BEGIN:VEVENT
DTSTART:20220409T160000Z
DTEND:20220409T180000Z
X-MICROSOFT-CDO-ALLDAYEVENT:FALSE
SUMMARY:BMX Open House
DESCRIPTION:BMX Open House This event is for those bicycle riders who have never tried BMX racing\, but would like to. This is your day to try our Olympic Sport. No age restriction\, so bring the whole family. Come prepared wearing long pants\, long sleeves\, closed toe shoes\, bicycle\, and helmet. If you don't have these items\, we will have them to loan out. Minors must be accompanied by a parent.
X-ALT-DESC;FMTTYPE=text/html:BMX Open House This event is for those bicycle riders who have never tried BMX racing\, but would like to. This is your day to try our Olympic Sport. No age restriction\, so bring the whole family. Come prepared wearing long pants\, long sleeves\, closed toe shoes\, bicycle\, and helmet. If you don&#39\;t have these items\, we will have them to loan out. Minors must be accompanied by a parent.
LOCATION:Chandler BMX - Track 001 298 S. McQueen Road Chandler\, AZ 85225
UID:e.1561.40663
SEQUENCE:3
DTSTAMP:20260423T221711Z
URL:https://business.chandlerchamber.com/events/details/bmx-open-house-40663
END:VEVENT

END:VCALENDAR
