BEGIN:VCALENDAR
VERSION:2.0
PRODID:-//ChamberMaster//Event Calendar 2.0//EN
METHOD:PUBLISH
X-PUBLISHED-TTL:P3D
REFRESH-INTERVAL:P3D
CALSCALE:GREGORIAN
BEGIN:VEVENT
DTSTART:20190619T190000Z
DTEND:20190619T210000Z
X-MICROSOFT-CDO-ALLDAYEVENT:FALSE
SUMMARY:Board of Directors Monthly Meeting
DESCRIPTION:
X-ALT-DESC;FMTTYPE=text/html:
LOCATION:
UID:e.1561.5355
SEQUENCE:3
DTSTAMP:20260423T004313Z
URL:https://business.chandlerchamber.com/events/details/board-of-directors-monthly-meeting-06-19-2019-5355
END:VEVENT

END:VCALENDAR
