BEGIN:VCALENDAR
VERSION:2.0
PRODID:-//ChamberMaster//Event Calendar 2.0//EN
METHOD:PUBLISH
X-PUBLISHED-TTL:P3D
REFRESH-INTERVAL:P3D
CALSCALE:GREGORIAN
BEGIN:VEVENT
DTSTART:20180428T170000Z
DTEND:20180428T190000Z
X-MICROSOFT-CDO-ALLDAYEVENT:FALSE
SUMMARY:Brunch with Bridgett
DESCRIPTION:RePRESENT Your Expertise! ? ?Engage in an intimate conversation with Bridgett McGowen on how to get rid of the presentation jitters and break into presenting in your industry while dining on the best brunch in Chandler\, Arizona and getting answers to all of your presentation challenges! Discover   HOW to lose the jitters WHAT are the biggest presentation mistakes to avoid WHAT it is that audiences want to hear from you WHERE to search for speaking opportunities WHY you should professionally speak no matter the industry you're in HOW to get started ?Your ticket includes ... brunch + mimosa business presentation advice from an industry expert networking with local like-minded professionals 45-minute post-event one-on-one call with Bridgett on how to tackle your biggest presentation challenges
X-ALT-DESC;FMTTYPE=text/html:RePRESENT Your Expertise! ? ?Engage in an intimate conversation with Bridgett McGowen on how to get rid of the presentation jitters and break into presenting in your industry while dining on the best brunch in Chandler\, Arizona and getting answers to all of your presentation challenges! Discover &hellip\; HOW to lose the jitters WHAT are the biggest presentation mistakes to avoid WHAT it is that audiences want to hear from you WHERE to search for speaking opportunities WHY you should professionally speak no matter the industry you&#39\;re in HOW to get started ?Your ticket includes ... brunch + mimosa business presentation advice from an industry expert networking with local like-minded professionals 45-minute post-event one-on-one call with Bridgett on how to tackle your biggest presentation challenges
LOCATION:Meridiem Kitchen + Lounge 1245 S. Price Road Chandler\, Arizona
UID:e.1561.32601
SEQUENCE:3
DTSTAMP:20260423T193041Z
URL:https://business.chandlerchamber.com/events/details/brunch-with-bridgett-32601
END:VEVENT

END:VCALENDAR
