BEGIN:VCALENDAR
VERSION:2.0
PRODID:-//ChamberMaster//Event Calendar 2.0//EN
METHOD:PUBLISH
X-PUBLISHED-TTL:P3D
REFRESH-INTERVAL:P3D
CALSCALE:GREGORIAN
BEGIN:VEVENT
DTSTART:20241026T013000Z
DTEND:20241026T050000Z
X-MICROSOFT-CDO-ALLDAYEVENT:FALSE
SUMMARY:"Building A Dream" Gala
DESCRIPTION:Live Love is thrilled to announce its Inaugural Fundraising Gala\, a highly anticipated event dedicated to raising crucial funds for completion of its new community center - The Oasis. This year's gala\, themed 'Building A Dream\,' promises to be an evening of fun and inspiration. During the interactive cocktail hour\, guests will enjoy live music\, a Sangria welcome drink and four different appetizers as they explore the experiential exhibits that highlight The Oasis's future offerings: a Culinary Program\, Gardening Program\, Trade Vocational Programs\, and Sports Programs.
X-ALT-DESC;FMTTYPE=text/html:Live Love is thrilled to announce its Inaugural Fundraising Gala\, a highly anticipated event dedicated to raising crucial funds for completion of its new community center - The Oasis.&nbsp\;This year&rsquo\;s gala\, themed &#39\;Building A Dream\,&#39\; promises to be an evening of fun and inspiration. During the interactive cocktail hour\, guests will enjoy live music\, a Sangria welcome drink and four different appetizers as they explore the experiential exhibits that highlight The Oasis&#39\;s future offerings: a Culinary Program\, Gardening Program\, Trade Vocational Programs\, and Sports Programs.
LOCATION:On Jackson 245 E. Jackson Street Phoenix\, AZ 85004
UID:e.1561.50653
SEQUENCE:3
DTSTAMP:20260420T112200Z
URL:https://business.chandlerchamber.com/events/details/building-a-dream-gala-50653
END:VEVENT

END:VCALENDAR
