BEGIN:VCALENDAR
VERSION:2.0
PRODID:-//ChamberMaster//Event Calendar 2.0//EN
METHOD:PUBLISH
X-PUBLISHED-TTL:P3D
REFRESH-INTERVAL:P3D
CALSCALE:GREGORIAN
BEGIN:VEVENT
DTSTART:20150619T000000Z
DTEND:20150619T020000Z
X-MICROSOFT-CDO-ALLDAYEVENT:FALSE
SUMMARY:Business After Business
DESCRIPTION:Come join us for our monthly evening mixer - meet new Chamber members\, make business contacts\, and get a chance to win the "Chamber Cash Pot" (sponsored by Thorobred Chevrolet)!\n\nRules for Chamber Pot:\n\n1. Must be a member in good standing - good standing means all dues are to be paid in full on or before due date.\n\n2. Must be present to win\n\n3. Primary contact on account is eligible\n\nThere will be opportunities for guests to try Topgolf at a few open bays as well as small appetizers\, soft drinks\, and a cash bar.\n\n\n\n*Thank you to our event sponsor Arizona Pest Prevention.
X-ALT-DESC;FMTTYPE=text/html:<span>Come join us for our monthly evening mixer - meet new Chamber members\, make business contacts\, and get a chance to win the &quot\;Chamber Cash Pot&quot\; (sponsored by Thorobred Chevrolet)!<br />\nRules for Chamber Pot:<br />\n1. Must be a member in good standing - good standing means all dues are to be paid in full on or before due date.<br />\n2. Must be present to win<br />\n3.&nbsp\;Primary contact on account is&nbsp\;eligible</span><br />\nThere will be opportunities for guests to try Topgolf at a few open bays as well as small appetizers\, soft drinks\, and a cash bar.<br />\n<br />\n<span>*Thank you to our event sponsor Arizona Pest Prevention.&nbsp\;</span>
LOCATION:Top Golf 1689 S San Tan Village Pkwy\, Gilbert\, AZ 85295 SE corner of Ray/San Tan Village Pkwy
UID:e.1561.12319
SEQUENCE:3
DTSTAMP:20260425T230551Z
URL:https://business.chandlerchamber.com/events/details/business-after-business-06-18-2015-12319
END:VEVENT

END:VCALENDAR
