BEGIN:VCALENDAR
VERSION:2.0
PRODID:-//ChamberMaster//Event Calendar 2.0//EN
METHOD:PUBLISH
X-PUBLISHED-TTL:P3D
REFRESH-INTERVAL:P3D
CALSCALE:GREGORIAN
BEGIN:VEVENT
DTSTART:20150918T000000Z
DTEND:20150918T020000Z
X-MICROSOFT-CDO-ALLDAYEVENT:FALSE
SUMMARY:Business After Business
DESCRIPTION:Come join us for our monthly evening mixer - meet new Chamber members\, make business contacts\, and get a chance to win the "Chamber Cash Pot" (sponsored by Thorobred Chevrolet)!\n\n*Advanced registration for mixers is required. Admission at the door without registration is $10.  Registration admission is non-refundable.\n\nRules for Chamber Pot:\n\n1. Must be a member in good standing - good standing means all dues are to be paid in full on or before due date.\n\n2. Must be present to win\n\n3. Primary contact on account is eligible \n\n\n\n*Thank you to our event sponsor Arizona Pest Prevention.
X-ALT-DESC;FMTTYPE=text/html:<span>Come join us for our monthly evening mixer - meet new Chamber members\, make business contacts\, and get a chance to win the &quot\;Chamber Cash Pot&quot\; (sponsored by Thorobred Chevrolet)!</span><br />\n<span style="color: rgb(255\, 0\, 0)\; line-height: 20.7999992370605px\;">*Advanced registration for mixers is required. Admission at the door without registration is $10. &nbsp\;Registration a</span><span style="color: rgb(255\, 0\, 0)\; line-height: 20.7999992370605px\;">dmission is non-refundable.</span><br />\nRules for Chamber Pot:<br />\n1. Must be a member in good standing - good standing means all dues are to be paid in full on or before due date.<br />\n2. Must be present to win<br />\n3.&nbsp\;Primary contact on account is&nbsp\;eligible<span>&nbsp\;<br />\n<br />\n*Thank you to our event sponsor Arizona Pest Prevention.&nbsp\;</span>
LOCATION:Hurricane Grill & Wings 7450 W. Chandler Blvd Chandler\, AZ 85226 SW Corner of W. Chandler Blvd and S. Southgate Dr.
UID:e.1561.12322
SEQUENCE:3
DTSTAMP:20260425T183632Z
URL:https://business.chandlerchamber.com/events/details/business-after-business-09-17-2015-12322
END:VEVENT

END:VCALENDAR
