BEGIN:VCALENDAR
VERSION:2.0
PRODID:-//ChamberMaster//Event Calendar 2.0//EN
METHOD:PUBLISH
X-PUBLISHED-TTL:P3D
REFRESH-INTERVAL:P3D
CALSCALE:GREGORIAN
BEGIN:VEVENT
DTSTART:20190517T000000Z
DTEND:20190517T020000Z
X-MICROSOFT-CDO-ALLDAYEVENT:FALSE
SUMMARY:Business After Business
DESCRIPTION:Please have QR code ready at registration\, all who check in with QR code in confirmation email are put in for an additional drawing!\n\nJoin us for our monthly evening mixer sponsored by Local Listing Pro & Realty Executives and meet new Chamber members\, make business contacts\, and get a chance to win the "Chamber Cash Pot" sponsored by Earnhardt Ford.\n\n\n\nRules for Chamber Pot:\n\n1. Must be a member in good standing - good standing means all dues are to be paid in full on or before due date.\n\n2. Must be present to win\n\n3. Primary contact on account is eligible
X-ALT-DESC;FMTTYPE=text/html:<span style="color:#B22222\;"><span style="font-family:comic sans ms\;"><u><strong><span style="font-size: 16px\;"><span style="background-image: initial\; background-attachment: initial\; background-size: initial\; background-origin: initial\; background-clip: initial\; background-position: initial\; background-repeat: initial\;">Please have QR code ready at registration\, all who check in with QR code in confirmation email are put in for an additional drawing!</span></span></strong></u></span></span><br />\n<span style="font-family: arial\; font-size: 16px\; color: rgb(0\, 0\, 0)\;"><span style="background-image: initial\; background-attachment: initial\; background-size: initial\; background-origin: initial\; background-clip: initial\; background-position: initial\; background-repeat: initial\;">Join us for o</span></span><span style="font-size:16px\;"><span style="font-family:arial\;"><span style="color:#000000\;"><span style="background-image:initial\;background-attachment:initial\;background-size:initial\;background-origin:initial\;background-clip:initial\;background-position:initial\;background-repeat:initial\;">ur monthly evening mixer sponsored by Local Listing Pro &amp\; Realty Executives and meet new Chamber members\, make business contacts\, and get a chance to win the &quot\;Chamber Cash Pot&quot\; sponsored by Earnhardt Ford.</span><br />\n<br style="line-height: 20.8px\;" />\n<strong><span style="line-height: 20.8px\;">Rules for Chamber Pot:</span></strong><br style="line-height: 20.8px\;" />\n<span style="line-height: 20.8px\;">1. Must be a member in good standing - good standing means all dues are to be paid in full on or before due date.</span><br style="line-height: 20.8px\;" />\n<span style="line-height: 20.8px\;">2. Must be present to win</span><br style="line-height: 20.8px\;" />\n<span style="line-height: 20.8px\;">3.&nbsp\;Primary contact on account is&nbsp\;eligible</span></span></span></span><br />\n<br style="line-height: 20.8px\;" />\n<br />\n<br />\n<br />\n<br />\n<br />\n&nbsp\;
LOCATION:Downtown Crawl! Registration at First Credit Union 25 S Arizona Place Chandler\, AZ 85225 Ending at Civic Market 201 S Washington St Chandler\, AZ 85225
UID:e.1561.35951
SEQUENCE:3
DTSTAMP:20260423T021030Z
URL:https://business.chandlerchamber.com/events/details/business-after-business-35951
END:VEVENT

END:VCALENDAR
