BEGIN:VCALENDAR
VERSION:2.0
PRODID:-//ChamberMaster//Event Calendar 2.0//EN
METHOD:PUBLISH
X-PUBLISHED-TTL:P3D
REFRESH-INTERVAL:P3D
CALSCALE:GREGORIAN
BEGIN:VEVENT
DTSTART:20190719T000000Z
DTEND:20190719T020000Z
X-MICROSOFT-CDO-ALLDAYEVENT:FALSE
SUMMARY:Business After Business
DESCRIPTION:Join us for our monthly evening mixer sponsored by Local Listing Pro & Realty Executives and meet new Chamber members\, make business contacts\, and get a chance to win the "Chamber Cash Pot" sponsored by Earnhardt Ford.\n\n\n\nRules for Chamber Pot:\n\n1. Must be a member in good standing - good standing means all dues are to be paid in full on or before due date.\n\n2. Only the Primary contact for the account is eligible to win and must be present at the event in which their name is drawn.\n\n\n\nPlease Pre-Register for discounted pricing all member walk ins will be $10 at the door! As well as non-member walk ins will be $15 at the door!\n\nRegistration will be cut off at 12:00 noon July 18th!
X-ALT-DESC;FMTTYPE=text/html:<span style="font-size:16px\;"><span style="font-family:arial\;"><span style="color:#000000\;"><span style="background-image:initial\;background-attachment:initial\;background-size:initial\;background-origin:initial\;background-clip:initial\;background-position:initial\;background-repeat:initial\;">Join us for our monthly evening mixer sponsored by Local Listing Pro &amp\; Realty Executives and meet new Chamber members\, make business contacts\, and get a chance to win the &quot\;Chamber Cash Pot&quot\; sponsored by Earnhardt Ford.</span></span></span></span><br />\n<br style="line-height: 20.8px\;" />\n<strong><span style="background:white\;"><span style="color:black\;"><span style="font-family:arial\,sans-serif\;">Rules for Chamber Pot:</span></span></span><br />\n<span style="color:black\;"><span style="font-family:arial\,sans-serif\;"><span style="background:white\;">1. Must be a member in good standing - good standing means all dues are to be paid in full on or before due date.</span><br />\n<span style="background:white\;">2. Only the Primary contact for the account is eligible to win and must be present at the event in which their name is drawn.</span></span></span></strong><br />\n<br />\n<span style="font-size:18px\;"><u><strong>Please Pre-Register for discounted pricing all member walk ins will be $10 at the door! As well as non-member walk ins will be $15 at the door!<br />\nRegistration will be cut off at 12:00 noon July 18th!</strong></u></span><br />\n<br />\n<br />\n<br style="line-height: 20.8px\;" />\n<br />\n<br />\n<br />\n<br />\n<br />\n&nbsp\;
LOCATION:B2 Burgers and Brews 393 W Warner Rd #121-124 Chandler AZ 85225
UID:e.1561.35957
SEQUENCE:3
DTSTAMP:20260422T230622Z
URL:https://business.chandlerchamber.com/events/details/business-after-business-35957
END:VEVENT

END:VCALENDAR
