BEGIN:VCALENDAR
VERSION:2.0
PRODID:-//ChamberMaster//Event Calendar 2.0//EN
METHOD:PUBLISH
X-PUBLISHED-TTL:P3D
REFRESH-INTERVAL:P3D
CALSCALE:GREGORIAN
BEGIN:VEVENT
DTSTART:20200521T230000Z
DTEND:20200522T003000Z
X-MICROSOFT-CDO-ALLDAYEVENT:FALSE
SUMMARY:Business After Business
DESCRIPTION:Zoom Instructions will be found in your confirmation email after registering for this event. \n\nWho doesn't want a chance at $2\,600? Join us for a Zoom Meeting Business After Business! Through Zoom\, we will break registrants up into small groups to network. Then we will bring everyone back together to announce the Chamber Pot Winner. Everyone that registers and pays for the event\, will receive the list of attendees with their contact information for further contact. But the most exciting part (drum roll) we will be drawing for the Chamber Cash pot which is at $2\,600! \n\nWe will be drawing\, for the Chamber Pot like always\, but to be eligible\, you must be registered and paid for Business After Business and a member in good standing by 2 pm on Thursday\, May 21st.\n\n\n\nRules for Chamber Pot:\n\n1. Must be a member in good standing - good standing means all dues are to be paid in full on or before due date.\n\n2. Must be present to win \n\n3. Primary contact on account is eligible
X-ALT-DESC;FMTTYPE=text/html:<p><span style="font-size: 16px\;"><strong>Zoom Instructions will be found in your confirmation email after registering for this event. </strong></span><br />\nWho doesn&#39\;t want a chance at $2\,600? Join us for a Zoom Meeting Business After Business! Through Zoom\, we will break registrants up into small groups to network. Then we will bring everyone back together to announce the Chamber Pot Winner. Everyone that registers and pays for the event\, will receive the list of attendees with their contact information for further contact. But the most exciting part (drum roll) we will be drawing for the Chamber Cash pot which is at <strong><span style="color: rgb(255\, 0\, 0)\;">$2\,600!</span> </strong></p>\n\n<p><strong>We will be drawing\, for the Chamber Pot like always\, but to be eligible\, you must be registered and paid for Business After Business and a member in good standing by&nbsp\;2 pm on Thursday\, May 21st.</strong><br />\n<br style="line-height: 20.8px\;" />\n<span style="color: rgb(51\, 51\, 51)\; font-family: sans-serif\, Arial\, Verdana\,\;" trebuchet=""><span style="font-family: arial\;"><span style="color: rgb(0\, 0\, 0)\;"><strong><span style="line-height: 20.8px\;">Rules for Chamber Pot:</span></strong><br style="line-height: 20.8px\;" />\n<span style="line-height: 20.8px\;">1. Must be a member in good standing - good standing means all dues are to be paid in full on or before due date.</span><br style="line-height: 20.8px\;" />\n<span style="line-height: 20.8px\;">2. Must be present to win&nbsp\;</span><br style="line-height: 20.8px\;" />\n<span style="line-height: 20.8px\;">3.&nbsp\;Primary contact on account is&nbsp\;eligible</span></span></span></span></p>\n<br />\n&nbsp\;
LOCATION:Virtual Zoom Meeting- Please find the Zoom information in your confirmation email
UID:e.1561.38115
SEQUENCE:3
DTSTAMP:20260424T163329Z
URL:https://business.chandlerchamber.com/events/details/business-after-business-38115
END:VEVENT

END:VCALENDAR
