BEGIN:VCALENDAR
VERSION:2.0
PRODID:-//ChamberMaster//Event Calendar 2.0//EN
METHOD:PUBLISH
X-PUBLISHED-TTL:P3D
REFRESH-INTERVAL:P3D
CALSCALE:GREGORIAN
BEGIN:VEVENT
DTSTART:20200820T230000Z
DTEND:20200821T003000Z
X-MICROSOFT-CDO-ALLDAYEVENT:FALSE
SUMMARY:Business After Business
DESCRIPTION:Join us for our monthly evening mixer sponsored by Local Listing Pro - North & Co. Meet new Chamber members in one of the  breakout rooms and get a chance to win the "Chamber Cash Pot" sponsored by Earnhardt Ford. This month's Chamber Pot is $2\,900.00!!! Play some trivia\, sponsored by OneTen Entertainment and win a door prize! \n\n\n\nRules for Chamber Pot:\n\n1. Must be a member in good standing - good standing means all dues are to be paid in full on or before due date.\n\n2. Must be present to win\n\n3. Primary contact on account is eligible\n\n\n\nIf you're interested in donating a door prize to promote your business\, contact Mia at mia@chandlerchamber.com.
X-ALT-DESC;FMTTYPE=text/html:<span style="font-size: 16px\;"><span style="font-family: arial\;"><span style="color: rgb(0\, 0\, 0)\;"><span>Join us for our monthly evening mixer sponsored by Local Listing Pro - North &amp\; Co. Meet new Chamber members in one of the&nbsp\; breakout rooms and get a chance to win the "Chamber Cash Pot" sponsored by Earnhardt Ford. This month's Chamber Pot is $2\,900.00!!! Play some trivia\, sponsored by OneTen Entertainment and win a door prize!&nbsp\;</span><br>\n<br style="line-height: 20.8px\;">\n<strong><span style="line-height: 20.8px\;">Rules for Chamber Pot:</span></strong><br style="line-height: 20.8px\;">\n<span style="line-height: 20.8px\;">1. Must be a member in good standing - good standing means all dues are to be paid in full on or before due date.</span><br style="line-height: 20.8px\;">\n<span style="line-height: 20.8px\;">2. Must be present to win</span><br style="line-height: 20.8px\;">\n<span style="line-height: 20.8px\;">3.&nbsp\;Primary contact on account is&nbsp\;eligible<br>\n<br>\nIf you're interested in donating a door prize to promote your business\, contact Mia at mia@chandlerchamber.com.</span></span></span></span><br>\n<br style="line-height: 20.8px\;">\n<br>\n<br>\n<br>\n<br>\n<br>\n&nbsp\;
LOCATION:Virtual Networking Event Zoom link will be sent after you register\, in your confirmation email.
UID:e.1561.38918
SEQUENCE:3
DTSTAMP:20260424T212631Z
URL:https://business.chandlerchamber.com/events/details/business-after-business-38918
END:VEVENT

END:VCALENDAR
