BEGIN:VCALENDAR
VERSION:2.0
PRODID:-//ChamberMaster//Event Calendar 2.0//EN
METHOD:PUBLISH
X-PUBLISHED-TTL:P3D
REFRESH-INTERVAL:P3D
CALSCALE:GREGORIAN
BEGIN:VEVENT
DTSTART:20261210T230000Z
DTEND:20261211T003000Z
X-MICROSOFT-CDO-ALLDAYEVENT:FALSE
SUMMARY:Business After Business @ First Western Bank
DESCRIPTION:Business After Business is the Chamber's largest monthly networking event and a great way to end the work day! Bring your business cards\, be prepared to work the room\, talk about your business and promote yourself. Enjoy the fun atmosphere\, the food and take advantage of the opportunity to talk with like-minded people.\n\n \n\nDoor Prizes Welcome!\n\n \n\nEvent Location: First Western Bank\n\nFirst Western Bank   Chandler Branch is a full-service bank serving Chandler and the surrounding East Valley area. Located at 3001 North Alma School Road\, this branch is a convenient place to get help with personal banking\, business banking needs\, and lending conversations\, whether you're opening a new account\, setting up digital banking\, or planning your next financial step. Stop into the lobby for account support\, questions about online and mobile banking\, or guidance choosing the right checking or savings option. For quick transactions\, this location offers drive-up service during regular weekday hours. If you're not sure where to start\, tell us what you're trying to accomplish. Our Chandler team will point you to the right account or connect you with the right specialist so you leave with a clear next step.\n\n\nEvent Sponsor: wEquipu\n\nA digital business development agency offering innovative technology solutions. With a combination of intuitive strengths and technology\, we equip your business with Cloud Solutions\, Google Workspaces. We go beyond technology with comprehensive principle based professional services for your organizations productivity performance to reach human & economic growth.\n\n\nChamber Pot Sponsor:  Arizona Pest Prevention\n\nSince 2002 Arizona Pest Prevention remains a well-recognized and reputable company. We offer competitive pricing with unparalleled professionalism in all areas of general pest\, termite\, and roof rat control in Chandler\, Arizona and other valley communities. Our tenured technicians provide trusted results\, and service quality in resolving pest issues which are primary components of our success. \n\n\n\n\n\n\n\nWe will be drawing out of the Chamber Pot and YOU could win!\n\n \n\nChamber Pot Eligibility Rules\n\n\n	Must be registered for Business After Business\n	Must be listed as the Primary on the Chamber account\n	Must be present to win\n	Must be a member in good standing (meaning all dues are paid in full on or before the due date)\n\nGood Luck!\n\n\n\n\n\nAbout the Chandler Chamber\n\nRepresenting over 175\,000 employees from over 1\,700 member businesses\, the Chandler Chamber of Commerce has brought the East Valley together for over 100 years. The Chandler Chamber champions both small businesses and established corporations by providing innovative workforce development programming\, by advocating for employers at the city and state level\, and by providing collaborative opportunities through economic updates\, industry-specific roundtables\, a young professionals series\, and more.
X-ALT-DESC;FMTTYPE=text/html:<span style="color:black\;"><span style="font-family:arial\,sans-serif\;"><span style="font-size:12.0pt\;">Business After Business is the Chamber&#39\;s largest monthly networking event and a great way to end the work day! Bring your business cards\, be prepared to work the room\, talk about your business and promote yourself. Enjoy the fun atmosphere\, the food and take advantage of the opportunity to talk with like-minded people.<br />\n&nbsp\;<br />\nDoor Prizes Welcome!<br />\n&nbsp\;<br />\n<strong><u>Event Location</u>:</strong>&nbsp\;First Western Bank</span></span></span>\n\n<p style="box-sizing: border-box\; margin-top: 0px\; margin-bottom: 20px\; color: rgb(26\, 26\, 26)\; font-family: Satoshi\, sans-serif\; font-size: 15px\; background-color: rgb(255\, 255\, 255)\;"><span style="font-size:16px\;"><span style="font-family:arial\;">First Western Bank &ndash\; Chandler Branch is a full-service bank serving Chandler and the surrounding East Valley area. Located at 3001 North Alma School Road\, this branch is a convenient place to get help with personal banking\, business banking needs\, and lending conversations\, whether you&rsquo\;re opening a new account\, setting up digital banking\, or planning your next financial step.&nbsp\;</span></span><span style="font-size:16px\;"><span style="font-family:arial\;">Stop into the lobby for account support\, questions about online and mobile banking\, or guidance choosing the right checking or savings option. For quick transactions\, this location offers drive-up service during regular weekday hours.&nbsp\;</span></span><span style="font-size:16px\;"><span style="font-family:arial\;">If you&rsquo\;re not sure where to start\, tell us what you&rsquo\;re trying to accomplish. Our Chandler team will point you to the right account or connect you with the right specialist so you leave with a clear next step.</span></span></p>\n<br />\n<span style="color:black\;"><span style="font-family:arial\,sans-serif\;"><span style="font-size:12.0pt\;"><strong><u>Event Sponsor</u>:</strong>&nbsp\;wEquipu</span></span></span>\n\n<p><span style="font-size:16px\;"><span style="font-family:arial\;">A digital business development agency offering innovative technology solutions. With a combination of intuitive strengths and technology\, we equip your business with Cloud Solutions\, Google Workspaces. We go beyond technology with comprehensive principle based professional services for your organizations productivity performance to reach human &amp\; economic growth.</span></span></p>\n<br />\n<span style="color: rgb(0\, 0\, 0)\; font-family: arial\, sans-serif\;"><span style="font-size: 12pt\;"><strong><u>Chamber Pot Sponsor</u>:</strong>&nbsp\; Arizona Pest Prevention</span></span><br style="color: rgb(0\, 0\, 0)\;" />\n<span style="color: rgb(0\, 0\, 0)\; font-size: 16px\;"><span style="font-family: arial\;">Since 2002 Arizona Pest Prevention remains a well-recognized and reputable company. We offer competitive pricing with unparalleled professionalism in all areas of general pest\, termite\, and roof rat control in Chandler\, Arizona and other valley communities. Our tenured technicians provide trusted results\, and service quality in resolving pest issues which are primary components of our success.&nbsp\;</span></span><br />\n<br />\n<br />\n<br />\n<span style="color:black\;"><span style="font-family:arial\,sans-serif\;"><span style="font-size:12.0pt\;"><strong>We will be drawing out of the Chamber Pot and YOU could win!</strong><br />\n&nbsp\;<br />\n<u>Chamber Pot Eligibility Rules</u></span></span></span>\n\n<ol>\n	<li style="color:#333333\;margin-bottom:0in\;margin-bottom:.0001pt\;line-height:normal\;"><span style="color:black\;"><span style="font-family:arial\,sans-serif\;"><span style="font-size:12.0pt\;">Must be registered for Business After Business</span></span></span></li>\n	<li style="color:#333333\;margin-bottom:0in\;margin-bottom:.0001pt\;line-height:normal\;"><span style="color:black\;"><span style="font-family:arial\,sans-serif\;"><span style="font-size:12.0pt\;">Must be listed as the Primary on the Chamber account</span></span></span></li>\n	<li style="color:#333333\;margin-bottom:0in\;margin-bottom:.0001pt\;line-height:normal\;"><span style="color:black\;"><span style="font-family:arial\,sans-serif\;"><span style="font-size:12.0pt\;">Must be present to win</span></span></span></li>\n	<li style="color:#333333\;margin-bottom:0in\;margin-bottom:.0001pt\;line-height:normal\;"><span style="color:black\;"><span style="font-family:arial\,sans-serif\;"><span style="font-size:12.0pt\;">Must be a member in good standing (meaning all dues are paid in full on or before the due date)</span></span></span></li>\n</ol>\n<strong><span style="color:black\;"><span style="font-family:arial\,sans-serif\;"><span style="font-size:12.0pt\;">Good Luck!</span></span></span></strong><br />\n<br />\n<br />\n<strong><u><span style="color:black\;"><span style="font-family:arial\,sans-serif\;"><span style="font-size:12.0pt\;">About the Chandler Chamber</span></span></span></u></strong><br />\n<span style="color:black\;"><span style="font-family:arial\,sans-serif\;"><span style="font-size:12.0pt\;">Representing over 175\,000 employees from over 1\,700 member businesses\, the Chandler Chamber of Commerce has brought the East Valley together for over 100 years. The Chandler Chamber champions both small businesses and established corporations by providing innovative workforce development programming\, by advocating for employers at the city and state level\, and by providing collaborative opportunities through economic updates\, industry-specific roundtables\, a young professionals series\, and more.</span></span></span>
LOCATION:First Western Bank 3001 N Alma School Rd Chandler\, AZ 85224
UID:e.1561.52020
SEQUENCE:3
DTSTAMP:20260424T121743Z
URL:https://business.chandlerchamber.com/events/details/business-after-business-52020
END:VEVENT

END:VCALENDAR
