BEGIN:VCALENDAR
VERSION:2.0
PRODID:-//ChamberMaster//Event Calendar 2.0//EN
METHOD:PUBLISH
X-PUBLISHED-TTL:P3D
REFRESH-INTERVAL:P3D
CALSCALE:GREGORIAN
BEGIN:VEVENT
DTSTART:20250619T230000Z
DTEND:20250620T003000Z
X-MICROSOFT-CDO-ALLDAYEVENT:FALSE
SUMMARY:Business After Business @ Rebel and Rogue
DESCRIPTION:Business After Business is the Chamber's largest monthly networking event and a great way to end the work day! Bring your business cards\, be prepared to work the room\, talk about your business and promote yourself. Enjoy the fun atmosphere\, the food and take advantage of the opportunity to talk with like-minded people.\n\n \n\nDoor Prizes Welcome!\n\n\n\nThank You to our 2025 Sponsors\n\n \n\nEvent Location: Rebel & Rogue\n\nRebel & Rogue is your spot to let loose\, be yourself\, and hang out. Inspired by classic rock legends and powered by today's beats\, we're here to stir up your nights with just the right amount of mischief. No stress\, no pressure- just a dang good time. We are rebels who believe in honoring the legends who made their mark by breaking the mold.\n\n\n\nEvent Sponsor: 4Ever Young Anti Aging Solutions \n\n4Ever Young was founded because we are willing to ask a radical question: what if you could look forward to the aging process? At 4Ever Young\, we're in the business of helping you live your best life-no matter where you are in your journey. \n\n\n\nChamber Pot Sponsor:  NeverNot Social \n\nWhether you're looking to increase your followers\, drive traffic to your website\, or boost sales\, Never Not Social has the skills and knowledge to help you achieve your goals. So if you're ready to take your marketing to the next level\, partner with Never Not Social and watch your business soar! \n\n\n\n\n\nWe will be drawing out of the Chamber Pot and YOU could win!\n\n \n\nChamber Pot Eligibility Rules\n\n\n	Must be registered for Business After Business\n	Must be listed as the Primary on the Chamber account\n	Must be present to win\n	Must be a member in good standing (meaning all dues are paid in full on or before the due date)\n\n\nGood Luck!
X-ALT-DESC;FMTTYPE=text/html:<p><span style="font-family: arial\, sans-serif\;"><span style="font-size: 10pt\;">Business After Business is the Chamber&#39\;s largest monthly networking event and a great way to end the work day! Bring your business cards\, be prepared to work the room\, talk about your business and promote yourself. Enjoy the fun atmosphere\, the food and take advantage of the opportunity to talk with like-minded people.</span></span><br />\n&nbsp\;<br />\n<span style="font-family: arial\, sans-serif\;"><span style="font-size: 10pt\;">Door Prizes Welcome!</span></span><br />\n<br />\n<span style="font-family: arial\, sans-serif\;"><span style="font-size: 10pt\;"><strong><u>Thank You to our 2025&nbsp\;Sponsors</u></strong></span></span><br />\n&nbsp\;<br />\n<strong><u><span style="font-family: arial\, sans-serif\;"><span style="font-size: 10pt\;">Event Location:</span></span></u></strong><span style="font-family: arial\, sans-serif\;"><span style="font-size: 10pt\;">&nbsp\;Rebel &amp\; Rogue</span></span><br />\nRebel &amp\; Rogue is your spot to let loose\, be yourself\, and hang out. Inspired by classic rock legends and powered by today&#39\;s beats\, we&#39\;re here to stir up your nights with just the right amount of mischief. No stress\, no pressure- just a dang good time. We are rebels who believe in honoring the legends who made their mark by breaking the mold.<br />\n<br />\n<strong><u><span style="font-family: arial\, sans-serif\;"><span style="font-size: 10pt\;">Event Sponsor:</span></span></u></strong><span style="font-family: arial\, sans-serif\;"><span style="font-size: 10pt\;">&nbsp\;</span></span><span style="font-family: arial\; font-size: 14px\;">4Ever Young Anti Aging Solutions&nbsp\;</span><br style="font-family: arial\; font-size: 14px\;" />\n<span style="font-family: arial\; font-size: 14px\;">4Ever Young was founded because we are willing to ask a radical question: what if you could look forward to the aging process? At 4Ever Young\, we&#39\;re in the business of helping you live your best life-no matter where you are in your journey.&nbsp\;</span><br />\n<br />\n<strong><u><span style="font-family: arial\, sans-serif\;"><span style="font-size: 10pt\;">Chamber Pot Sponsor:</span></span></u></strong><span style="font-family: arial\, sans-serif\;"><span style="font-size: 10pt\;">&nbsp\;</span></span><span style="font-family: arial\, sans-serif\; font-size: 13.3333px\;">&nbsp\;NeverNot Social&nbsp\;</span><br style="font-family: arial\, sans-serif\; font-size: 13.3333px\;" />\n<span style="font-family: arial\, sans-serif\; font-size: 13.3333px\;">Whether you&#39\;re looking to increase your followers\, drive traffic to your website\, or boost sales\, Never Not Social has the skills and knowledge to help you achieve your goals. So if you&#39\;re ready to take your marketing to the next level\, partner with Never Not Social and watch your business soar!&nbsp\;</span><br />\n<br />\n<br />\n<strong><span style="font-family: arial\, sans-serif\;"><span style="font-size: 10pt\;">We will be drawing out of the Chamber Pot and YOU could win!</span></span></strong><br />\n&nbsp\;<br />\n<strong><u><span style="font-family: arial\, sans-serif\;"><span style="font-size: 10pt\;">Chamber Pot Eligibility Rules</span></span></u></strong></p>\n\n<ol>\n	<li style="margin-top: 0in\; margin-right: 0in\; margin-bottom: 0.0001pt\;"><strong><span style="font-weight: normal\;"><span style="font-family: arial\, sans-serif\;"><span style="font-size: 10pt\;">Must be registered for Business After Business</span></span></span></strong></li>\n	<li style="margin-top: 0in\; margin-right: 0in\; margin-bottom: 0.0001pt\;"><strong><span style="font-weight: normal\;"><span style="font-family: arial\, sans-serif\;"><span style="font-size: 10pt\;">Must be listed as the Primary on the Chamber account</span></span></span></strong></li>\n	<li style="margin-top: 0in\; margin-right: 0in\; margin-bottom: 0.0001pt\;"><strong><span style="font-weight: normal\;"><span style="font-family: arial\, sans-serif\;"><span style="font-size: 10pt\;">Must be present to win</span></span></span></strong></li>\n	<li style="margin-top: 0in\; margin-right: 0in\; margin-bottom: 0.0001pt\;"><strong><span style="font-weight: normal\;"><span style="font-family: arial\, sans-serif\;"><span style="font-size: 10pt\;">Must be a member in good standing (meaning all dues are paid in full on or before the due date)</span></span></span></strong></li>\n</ol>\n\n<p><strong><span style="font-family: arial\, sans-serif\;"><span style="font-size: 10pt\;">Good Luck!</span></span></strong></p>\n
LOCATION:Rebel & Rogue 11 W Boston St Chandler\, AZ 85225
UID:e.1561.51130
SEQUENCE:3
DTSTAMP:20260424T151426Z
URL:https://business.chandlerchamber.com/events/details/business-after-business-rebel-and-rogue-51130
END:VEVENT

END:VCALENDAR
