BEGIN:VCALENDAR
VERSION:2.0
PRODID:-//ChamberMaster//Event Calendar 2.0//EN
METHOD:PUBLISH
X-PUBLISHED-TTL:P3D
REFRESH-INTERVAL:P3D
CALSCALE:GREGORIAN
BEGIN:VEVENT
DTSTART:20150415T134500Z
DTEND:20150415T170000Z
X-MICROSOFT-CDO-ALLDAYEVENT:FALSE
SUMMARY:Business Golf
DESCRIPTION:Join us the 1st and 3rd Wednesdays of every month until August 19th  for the Chandler Chamber of Commerce Business Golf Outing. \n\n\n\nYou will play 9 holes on various Chamber member golf courses including breakfast and networking opportunities!
X-ALT-DESC;FMTTYPE=text/html:Join us the 1st and 3rd Wednesdays of every month until August 19th &nbsp\;for the Chandler Chamber of Commerce Business Golf Outing.&nbsp\;<br />\n<br />\nYou will play 9 holes on various Chamber member golf courses including breakfast and networking opportunities!
LOCATION:San Marcos Golf Resort 100 N Dakota St Chandler\, AZ *Downtown Chandler
UID:e.1561.12637
SEQUENCE:3
DTSTAMP:20260425T230114Z
URL:https://business.chandlerchamber.com/events/details/business-golf-04-15-2015-12637
END:VEVENT

END:VCALENDAR
