BEGIN:VCALENDAR
VERSION:2.0
PRODID:-//ChamberMaster//Event Calendar 2.0//EN
METHOD:PUBLISH
X-PUBLISHED-TTL:P3D
REFRESH-INTERVAL:P3D
CALSCALE:GREGORIAN
BEGIN:VEVENT
DTSTART:20150520T134500Z
DTEND:20150520T170000Z
X-MICROSOFT-CDO-ALLDAYEVENT:FALSE
SUMMARY:Business Golf
DESCRIPTION:Join us the 1st and 3rd Wednesdays of every month until August 19th  for the Chandler Chamber of Commerce Business Golf Outing. \n\n\n\nYou will play 9 holes on various Chamber member golf courses including breakfast and networking opportunities!\n\n\n\nThank you to our sponsor: Air Products!
X-ALT-DESC;FMTTYPE=text/html:Join us the 1st and 3rd Wednesdays of every month until August 19th &nbsp\;for the Chandler Chamber of Commerce Business Golf Outing.&nbsp\;<br />\n<br />\nYou will play 9 holes on various Chamber member golf courses including breakfast and networking opportunities!<br />\n<br />\nThank you to our sponsor: Air Products!
LOCATION:Ocotillo Golf Course 3751 S Clubhouse Dr\, Chandler\, AZ 85248 N side of Ocotillo between Dobson/Alma School
UID:e.1561.12638
SEQUENCE:3
DTSTAMP:20260425T194441Z
URL:https://business.chandlerchamber.com/events/details/business-golf-05-20-2015-12638
END:VEVENT

END:VCALENDAR
