BEGIN:VCALENDAR
VERSION:2.0
PRODID:-//ChamberMaster//Event Calendar 2.0//EN
METHOD:PUBLISH
X-PUBLISHED-TTL:P3D
REFRESH-INTERVAL:P3D
CALSCALE:GREGORIAN
BEGIN:VEVENT
DTSTART:20150617T134500Z
DTEND:20150617T170000Z
X-MICROSOFT-CDO-ALLDAYEVENT:FALSE
SUMMARY:Business Golf
DESCRIPTION:Join us the 1st and 3rd Wednesdays of every month until August 19th  for the Chandler Chamber of Commerce Business Golf Outing. \n\n\n\nYou will play 9 holes on various Chamber member golf courses including breakfast and networking opportunities!
X-ALT-DESC;FMTTYPE=text/html:Join us the 1st and 3rd Wednesdays of every month until August 19th &nbsp\;for the Chandler Chamber of Commerce Business Golf Outing.&nbsp\;<br />\n<br />\nYou will play 9 holes on various Chamber member golf courses including breakfast and networking opportunities!
LOCATION:Lonetree Golf Club 6262 S Mountain Blvd\, Chandler\, AZ 85249 Riggs Road and S Mountain Blvd.
UID:e.1561.12639
SEQUENCE:3
DTSTAMP:20260425T230152Z
URL:https://business.chandlerchamber.com/events/details/business-golf-06-17-2015-12639
END:VEVENT

END:VCALENDAR
