BEGIN:VCALENDAR
VERSION:2.0
PRODID:-//ChamberMaster//Event Calendar 2.0//EN
METHOD:PUBLISH
X-PUBLISHED-TTL:P3D
REFRESH-INTERVAL:P3D
CALSCALE:GREGORIAN
BEGIN:VEVENT
DTSTART:20171012T160000Z
DTEND:20171012T180000Z
X-MICROSOFT-CDO-ALLDAYEVENT:FALSE
SUMMARY:Business Income and How It is Taxed
DESCRIPTION:Click here to register\n\nPresented in partnership with the SBDC you will learn:\n\n  Different types of business entities\n\no Sole-proprietor\n\no Partnership\n\no LLC\n\no S-Corp\n\no C-Corp\n\no Others\n\n- Including corporate maintenance\n\n- Avoid commingling of money\n\n\n\n  What business income is\n\no Revenue minuses expenses\n\no Not cash taken by the owner\n\no Recordkeeping Requirements\n\n\n\n  Business income tax forms\n\no Understand which type\n\no Define & discuss flow-through entities\n\n\n\n  How business income is taxed\n\no Self-employment taxes\n\no When to make an S-election\n\n\n\n  How to pay income tax on business income\n\no EFTPS/AZ Taxes\n\no Quarterly Payments\n\no Underpayment penalties & how to avoid them\n\n\n\n  2017 Legislative Changes (if any)\n\nSpeaker(s): Tanya Luken\, Luken CPA
X-ALT-DESC;FMTTYPE=text/html:<p font-size:="" open="" style="color: rgb(102\, 102\, 102)\; font-family: "><a href="https://clients.azsbdc.net/workshop.aspx?ekey=10370203"><span style="color:#FF0000\;"><span style="font-size:14px\;">Click here to register</span></span></a><br />\nPresented in partnership with the SBDC you will learn:<br />\n&bull\; Different types of business entities<br />\no Sole-proprietor<br />\no Partnership<br />\no LLC<br />\no S-Corp<br />\no C-Corp<br />\no Others<br />\n- Including corporate maintenance<br />\n- Avoid commingling of money<br />\n<br />\n&bull\; What business income is<br />\no Revenue minuses expenses<br />\no Not cash taken by the owner<br />\no Recordkeeping Requirements<br />\n<br />\n&bull\; Business income tax forms<br />\no Understand which type<br />\no Define &amp\; discuss flow-through entities<br />\n<br />\n&bull\; How business income is taxed<br />\no Self-employment taxes<br />\no When to make an S-election<br />\n<br />\n&bull\; How to pay income tax on business income<br />\no EFTPS/AZ Taxes<br />\no Quarterly Payments<br />\no Underpayment penalties &amp\; how to avoid them<br />\n<br />\n&bull\; 2017 Legislative Changes (if any)</p>\n\n<p font-size:="" open="" style="color: rgb(102\, 102\, 102)\; font-family: ">Speaker(s): Tanya Luken\, Luken CPA</p>\n\n<div>&nbsp\;</div>\n\n<div font-size:="" open="" style="color: rgb(102\, 102\, 102)\; font-family: ">&nbsp\;</div>\n
LOCATION:Chandler Chamber of Commerce 25 S Arizona Place\, #201 Chandler\, AZ 85225
UID:e.1561.19154
SEQUENCE:3
DTSTAMP:20260424T051433Z
URL:https://business.chandlerchamber.com/events/details/business-income-and-how-it-is-taxed-19154
END:VEVENT

END:VCALENDAR
