BEGIN:VCALENDAR
VERSION:2.0
PRODID:-//ChamberMaster//Event Calendar 2.0//EN
METHOD:PUBLISH
X-PUBLISHED-TTL:P3D
REFRESH-INTERVAL:P3D
CALSCALE:GREGORIAN
BEGIN:VEVENT
DTSTART:20180606T150000Z
DTEND:20180606T160000Z
X-MICROSOFT-CDO-ALLDAYEVENT:FALSE
SUMMARY:Business Round Table - Economic Vitality & Expansion
DESCRIPTION:The Chandler Chamber adopts public policies based on input in accordance with member's concerns and needs. The Chamber takes direct positions on bills\, based upon guiding principles contained in the How We Stand Legislative Document. If you are interested in joining our discussion groups for this document Register at ChandlerChamber.com\n\n\n\nTopic: Economic Vitality & Expansion
X-ALT-DESC;FMTTYPE=text/html:The Chandler Chamber adopts public policies based on input in accordance with member&#39\;s concerns and needs. The Chamber takes direct positions on bills\, based upon guiding principles contained in the How We Stand Legislative Document. If you are interested in joining our discussion groups for this document Register at ChandlerChamber.com<br />\n<br />\nTopic: Economic Vitality &amp\; Expansion<br />\n&nbsp\;
LOCATION:Chandler Chamber of Commerce 25 South Arizona Place Suite 201 Chandler\, AZ 85225
UID:e.1561.33623
SEQUENCE:3
DTSTAMP:20260423T163802Z
URL:https://business.chandlerchamber.com/events/details/business-round-table-economic-vitality-expansion-33623
END:VEVENT

END:VCALENDAR
