BEGIN:VCALENDAR
VERSION:2.0
PRODID:-//ChamberMaster//Event Calendar 2.0//EN
METHOD:PUBLISH
X-PUBLISHED-TTL:P3D
REFRESH-INTERVAL:P3D
CALSCALE:GREGORIAN
BEGIN:VEVENT
DTSTART:20180613T150000Z
DTEND:20180613T160000Z
X-MICROSOFT-CDO-ALLDAYEVENT:FALSE
SUMMARY:Business Round Table - Healthcare & Affordable Government
DESCRIPTION:The Chandler Chamber adopts public policies based on input in accordance with member's concerns and needs.  The Chamber takes direct positions on bills\, based upon the guiding principles contained in the How We Stand Legislative Document.  If you are interested in joining our discussion groups for this document Register at ChandlerChamber.com
X-ALT-DESC;FMTTYPE=text/html:The Chandler Chamber adopts public policies based on input in accordance with member&rsquo\;s concerns and needs.&nbsp\; The Chamber takes direct positions on bills\, based upon the guiding principles contained in the <strong><em>How We Stand </em></strong>Legislative Document.&nbsp\; If you are interested in joining our discussion groups for this document&nbsp\;<span style="color:red\;">Register at ChandlerChamber.com </span>
LOCATION:Chandler Chamber of Commerce 25 S. Arizona Pl. Suite 201 Chandler\, AZ 85225
UID:e.1561.33626
SEQUENCE:3
DTSTAMP:20260423T164047Z
URL:https://business.chandlerchamber.com/events/details/business-round-table-healthcare-affordable-government-33626
END:VEVENT

END:VCALENDAR
