BEGIN:VCALENDAR
VERSION:2.0
PRODID:-//ChamberMaster//Event Calendar 2.0//EN
METHOD:PUBLISH
X-PUBLISHED-TTL:P3D
REFRESH-INTERVAL:P3D
CALSCALE:GREGORIAN
BEGIN:VEVENT
DTSTART:20191006T020000Z
DTEND:20191006T050000Z
X-MICROSOFT-CDO-ALLDAYEVENT:FALSE
SUMMARY:C.A.L.L.E. DE ARIZONA
DESCRIPTION:The rich\, cultural history of Mexico fills the stage as this bright\, colorful festival returns to Chandler. The 20th annual event features GRAMMY Award winner Aida Cuevas and her Mariachi\, along with a dazzling array of folklorico dancers firmly rooted in tradition. Don't miss the Queen of Mariachi performing the music of the legendary Juan Gabriel.
X-ALT-DESC;FMTTYPE=text/html:The rich\, cultural history of Mexico fills the stage as this bright\, colorful festival returns to Chandler. The 20th annual event features GRAMMY Award winner Aida Cuevas and her Mariachi\, along with a dazzling array of folklorico dancers firmly rooted in tradition. Don&rsquo\;t miss the Queen of Mariachi performing the music of the legendary Juan Gabriel.
LOCATION:Chandler Center for the Arts
UID:e.1561.36807
SEQUENCE:3
DTSTAMP:20260422T201840Z
URL:https://business.chandlerchamber.com/events/details/c-a-l-l-e-de-arizona-36807
END:VEVENT

END:VCALENDAR
