BEGIN:VCALENDAR
VERSION:2.0
PRODID:-//ChamberMaster//Event Calendar 2.0//EN
METHOD:PUBLISH
X-PUBLISHED-TTL:P3D
REFRESH-INTERVAL:P3D
CALSCALE:GREGORIAN
BEGIN:VEVENT
DTSTART:20200317T180000Z
DTEND:20200317T210000Z
X-MICROSOFT-CDO-ALLDAYEVENT:FALSE
SUMMARY:C-Town Suitcase Club
DESCRIPTION:Travel through time and explore everyday objects from the past\, 3-5 year olds and their caregivers 10-11am March 17- Bales Children learn about the process of growing cotton and the importance of this crop in Arizona. We will have fun separating the seed from the boll and have a cotton  pickin' good time!
X-ALT-DESC;FMTTYPE=text/html:Travel through time and explore everyday objects from the past\, 3-5 year olds and their caregivers 10-11am March 17- Bales Children learn about the process of growing cotton and the importance of this crop in Arizona. We will have fun separating the seed from the boll and have a cotton &ndash\;pickin&rsquo\; good time!
LOCATION:Chandler Museum
UID:e.1561.38812
SEQUENCE:3
DTSTAMP:20260424T163451Z
URL:https://business.chandlerchamber.com/events/details/c-town-suitcase-club-03-17-2020-38812
END:VEVENT

END:VCALENDAR
