BEGIN:VCALENDAR
VERSION:2.0
PRODID:-//ChamberMaster//Event Calendar 2.0//EN
METHOD:PUBLISH
X-PUBLISHED-TTL:P3D
REFRESH-INTERVAL:P3D
CALSCALE:GREGORIAN
BEGIN:VEVENT
DTSTART:20190319T170000Z
DTEND:20190319T180000Z
X-MICROSOFT-CDO-ALLDAYEVENT:FALSE
SUMMARY:C-Town Suitcase Club
DESCRIPTION:Travel through time and explore everyday objects from the past. Early childhood program for 3 to 5-year-olds and their caregivers 10 - 11 a.m. | Free March 19: Digs
X-ALT-DESC;FMTTYPE=text/html:Travel through time and explore everyday objects from the past. Early childhood program for 3 to 5-year-olds and their caregivers 10 - 11 a.m. | Free March 19: Digs
LOCATION:Chandler Museum
UID:e.1561.36317
SEQUENCE:3
DTSTAMP:20260423T045626Z
URL:https://business.chandlerchamber.com/events/details/c-town-suitcase-club-03-19-2019-36317
END:VEVENT

END:VCALENDAR
