BEGIN:VCALENDAR
VERSION:2.0
PRODID:-//ChamberMaster//Event Calendar 2.0//EN
METHOD:PUBLISH
X-PUBLISHED-TTL:P3D
REFRESH-INTERVAL:P3D
CALSCALE:GREGORIAN
BEGIN:VEVENT
DTSTART:20220504T173000Z
DTEND:20220504T181500Z
X-MICROSOFT-CDO-ALLDAYEVENT:FALSE
SUMMARY:C-Town Suitcase Club
DESCRIPTION:Pack your bags and travel back in time where everyday objects look completely different. These 45-minute programs are led by our friendly educators who compare everyday items\, then and now. With new themes each month\, program participants will begin together with a central topic and then break off into family groups to engage in several activity stations. Geared toward ages 3-5. Free event. Wednesday\, May 4th and 18th\, 10:30am-11:15am Program repeats Wed May 18. Phones Miss the cord? Or the ticking sound of the dial? Bring your little for a hands-on exploration of phones before they were portable. Please register both adults and children attending as space is limited. https://www.eventbrite.com/e/c-town-suitcase-club-phones-tickets-301961544107 General Information: Free Admission Tuesday-Saturday 10am-5pm\, Sunday 1-5pm\, Closed Monday East Valley History Center\, Thursdays\, 2-5pm
X-ALT-DESC;FMTTYPE=text/html:Pack your bags and travel back in time where everyday objects look completely different. These 45-minute programs are led by our friendly educators who compare everyday items\, then and now. With new themes each month\, program participants will begin together with a central topic and then break off into family groups to engage in several activity stations. Geared toward ages 3-5. Free event. Wednesday\, May 4th and 18th\, 10:30am-11:15am Program repeats Wed May 18. Phones Miss the cord? Or the ticking sound of the dial? Bring your little for a hands-on exploration of phones before they were portable. Please register both adults and children attending as space is limited. https://www.eventbrite.com/e/c-town-suitcase-club-phones-tickets-301961544107 General Information: Free Admission Tuesday-Saturday 10am-5pm\, Sunday 1-5pm\, Closed Monday East Valley History Center\, Thursdays\, 2-5pm
LOCATION:Chandler Museum 300 S. Chandler Village Drive Chandler\, Arizona 85226
UID:e.1561.40670
SEQUENCE:3
DTSTAMP:20260423T205026Z
URL:https://business.chandlerchamber.com/events/details/c-town-suitcase-club-05-04-2022-40670
END:VEVENT

END:VCALENDAR
