BEGIN:VCALENDAR
VERSION:2.0
PRODID:-//ChamberMaster//Event Calendar 2.0//EN
METHOD:PUBLISH
X-PUBLISHED-TTL:P3D
REFRESH-INTERVAL:P3D
CALSCALE:GREGORIAN
BEGIN:VEVENT
DTSTART:20190716T170000Z
DTEND:20190716T180000Z
X-MICROSOFT-CDO-ALLDAYEVENT:FALSE
SUMMARY:C-Town Suitcase Club
DESCRIPTION:Travel through time and explore everyday objects from the past\, 3-5 year olds and their caregivers 10-11am July 16- Veins
X-ALT-DESC;FMTTYPE=text/html:Travel through time and explore everyday objects from the past\, 3-5 year olds and their caregivers 10-11am July 16- Veins
LOCATION:Chandler Museum - Saguaro Room
UID:e.1561.36763
SEQUENCE:3
DTSTAMP:20260422T230719Z
URL:https://business.chandlerchamber.com/events/details/c-town-suitcase-club-07-16-2019-36763
END:VEVENT

END:VCALENDAR
