BEGIN:VCALENDAR
VERSION:2.0
PRODID:-//ChamberMaster//Event Calendar 2.0//EN
METHOD:PUBLISH
X-PUBLISHED-TTL:P3D
REFRESH-INTERVAL:P3D
CALSCALE:GREGORIAN
BEGIN:VEVENT
DTSTART:20200121T170000Z
DTEND:20200121T180000Z
X-MICROSOFT-CDO-ALLDAYEVENT:FALSE
SUMMARY:C-Town Suitcase Club- Blues
DESCRIPTION:Travel through time and explore everyday objects from the past\, 3-5 year olds and their caregivers. Instruments\, music & rhythm from long ago! We will have a BLAST tooting our own horns and making noise!
X-ALT-DESC;FMTTYPE=text/html:Travel through time and explore everyday objects from the past\, 3-5 year olds and their caregivers. Instruments\, music &amp\; rhythm from long ago! We will have a BLAST tooting our own horns and making noise!
LOCATION:Chandler Museum
UID:e.1561.38583
SEQUENCE:3
DTSTAMP:20260420T151747Z
URL:https://business.chandlerchamber.com/events/details/c-town-suitcase-club-blues-38583
END:VEVENT

END:VCALENDAR
