BEGIN:VCALENDAR
VERSION:2.0
PRODID:-//ChamberMaster//Event Calendar 2.0//EN
METHOD:PUBLISH
X-PUBLISHED-TTL:P3D
REFRESH-INTERVAL:P3D
CALSCALE:GREGORIAN
BEGIN:VEVENT
DTSTART:20220406T173000Z
DTEND:20220406T181500Z
X-MICROSOFT-CDO-ALLDAYEVENT:FALSE
SUMMARY:C-Town Suitcase Club: Jazz
DESCRIPTION:Get your Charleston ready and tune into the musical rhythms of jazz music. A melodic program in conjunction with the City of Chandler's Jazz Festival. Pack your bags and travel back in time where everyday objects look completely different. These 45-minute programs are led by our friendly educators who compare everyday items\, then and now. With new themes each month\, program participants will begin together with a central topic and then break off into family groups to engage in several activity stations. Geared toward ages 3-5. Register as space is limited. Program repeats Wed April 20.
X-ALT-DESC;FMTTYPE=text/html:Get your Charleston ready and tune into the musical rhythms of jazz music. A melodic program in conjunction with the City of Chandler&rsquo\;s Jazz Festival. Pack your bags and travel back in time where everyday objects look completely different. These 45-minute programs are led by our friendly educators who compare everyday items\, then and now. With new themes each month\, program participants will begin together with a central topic and then break off into family groups to engage in several activity stations. Geared toward ages 3-5. Register as space is limited. Program repeats Wed April 20.
LOCATION:Chandler Museum 300 S. Chandler Village Drive Chandler\, Arizona 85226
UID:e.1561.40639
SEQUENCE:3
DTSTAMP:20260423T221956Z
URL:https://business.chandlerchamber.com/events/details/c-town-suitcase-club-jazz-40639
END:VEVENT

END:VCALENDAR
