BEGIN:VCALENDAR
VERSION:2.0
PRODID:-//ChamberMaster//Event Calendar 2.0//EN
METHOD:PUBLISH
X-PUBLISHED-TTL:P3D
REFRESH-INTERVAL:P3D
CALSCALE:GREGORIAN
BEGIN:VEVENT
DTSTART:20191015T190000Z
DTEND:20191015T190000Z
X-MICROSOFT-CDO-ALLDAYEVENT:FALSE
SUMMARY:C-Town Suitcase Club: Jugs
DESCRIPTION:C-Town Suitcase Club Travel through time and explore everyday objects from the past\, 3-5 year olds and their caregivers. Preschoolers will compare jugs and containers from days past and how we store food\, produce and drinks now. We will also learn how to recycle and upcycle containers from our households.
X-ALT-DESC;FMTTYPE=text/html:C-Town Suitcase Club Travel through time and explore everyday objects from the past\, 3-5 year olds and their caregivers. Preschoolers will compare jugs and containers from days past and how we store food\, produce and drinks now. We will also learn how to recycle and upcycle containers from our households.
LOCATION:Chandler Museum 300 S Chandler Village Dr
UID:e.1561.36921
SEQUENCE:3
DTSTAMP:20260422T202304Z
URL:https://business.chandlerchamber.com/events/details/c-town-suitcase-club-jugs-36921
END:VEVENT

END:VCALENDAR
